{"text_format":"1","workbook":"xlsx","n_sheets":3,"sheets":["LFCR Calc","Cap Structure","Depreciation Table"],"not_rendered":{"charts":0,"images":0,"macros":0,"external_links":0,"defined_names":4,"comments":0,"pivot_tables":0},"unopened":[],"bounds":{"document_bytes":16777216,"sheet_cells":100000,"rows_first":2000,"rows_last":500,"rows_between":2000,"halvings":0,"cell_chars":16384,"cell_head_chars":4096},"cells_cut":0,"cells_raw":0,"read":"whole","date_system":"1900"}

{"sheet":"LFCR Calc","index":0,"n_rows":94,"n_cols":16,"rows_kept":94,"cut":false,"hidden":false,"merged":[[8,21,8,24],[8,26,8,27]]}
["Montana-Dakota Utilities Co."]
["Electric Utility - South Dakota"]
["2018 Avoided Cost Rate Update"]
["Levelized Fixed Charge Rate - CT"]
[]
[]
[null,null,"(1)","(2)","(3)","(4)","(5)","(6)","(7)","(8)","(9)","(10)",null,"(11)","(12)"]
[null,null,null,null,null,null,null,null,"Present",null,"Accum.",null,null,"Tax","Deferred"]
[null,null,"Net",null,"Book",null,"Ad Valorem","Total","Value","Present","Present",null,null,"Depr.","Income","Acc."]
[null,"Year","Investment","Return","Depr.","O&M","Tax ","Charge","Factor","Value","Value","LFCR",null,"Accel.","Tax","DIT"]
[1,{"$f":"IF('LFCR Calc'!$G$92>=A11,A11,\" \")","v":1},1,{"$f":"+IF('LFCR Calc'!$G$92>='LFCR Calc'!A11,'LFCR Calc'!$G$85,\" \")","v":9.7129999999999994E-2},{"$f":"+IF('LFCR Calc'!$G$92>='LFCR Calc'!A11, ((100/'LFCR Calc'!$G$92)/100),\"\")","v":2.5000000000000001E-2},0,{"$f":"+IF('LFCR Calc'!$G$92>='LFCR Calc'!A11,'LFCR Calc'!$G$94,\" \")","v":3.63E-3},0,{"$f":"+IF('LFCR Calc'!$G$92>='LFCR Calc'!A11,(1/((1+'LFCR Calc'!$G$84)^'LFCR Calc'!B11)),\" \")","v":0.93269661244590363},{"$f":"+IF('LFCR Calc'!$G$92>='LFCR Calc'!A11,'LFCR Calc'!H11*'LFCR Calc'!I11,\" \")","v":0},{"$f":"+IF('LFCR Calc'!$G$92>='LFCR Calc'!A11,'LFCR Calc'!J11,\" \")","v":0},{"$f":"+IF('LFCR Calc'!$G$92>='LFCR Calc'!A11,'LFCR Calc'!K11*'LFCR Calc'!$G$84*(1+'LFCR Calc'!$G$84)^'LFCR Calc'!B11/((1+'LFCR Calc'!$G$84)^'LFCR Calc'!B11-1),\" \")","v":0},null,{"$f":"+IF('LFCR Calc'!$G$92>='LFCR Calc'!A11,'Depreciation Table'!E7,\" \")","v":0.05},{"$f":"+IF('LFCR Calc'!$G$92>='LFCR Calc'!A11,(('LFCR Calc'!N11-'LFCR Calc'!E11)*('LFCR Calc'!$G$89)),\" \")","v":8.7499999999999991E-3},{"$f":"IF(+'LFCR Calc'!$G$92>'LFCR Calc'!A11,+'LFCR Calc'!O11,\"\")","v":8.7499999999999991E-3}]
[2,{"$f":"IF('LFCR Calc'!$G$92>=A12,A12,\" \")","v":2},{"$f":"+IF('LFCR Calc'!$G$92>='LFCR Calc'!A12,('LFCR Calc'!C11-'LFCR Calc'!E11-'LFCR Calc'!O11),\" \")","v":0.96624999999999994},{"$f":"+IF('LFCR Calc'!$G$92>='LFCR Calc'!A12,'LFCR Calc'!$G$85*C12,\" \")","v":9.3851862499999994E-2},{"$f":"+IF('LFCR Calc'!$G$92>='LFCR Calc'!A12, ((100/'LFCR Calc'!$G$92)/100),\"\")","v":2.5000000000000001E-2},0,{"$f":"+IF('LFCR Calc'!$G$92>='LFCR Calc'!A12,'LFCR Calc'!$G$94,\" \")","v":3.63E-3},0,{"$f":"+IF('LFCR Calc'!$G$92>='LFCR Calc'!A12,(1/((1+'LFCR Calc'!$G$84)^'LFCR Calc'!B12)),\" \")","v":0.86992297086806403},{"$f":"+IF('LFCR Calc'!$G$92>='LFCR Calc'!A12,'LFCR Calc'!H12*'LFCR Calc'!I12,\" \")","v":0},{"$f":"+IF('LFCR Calc'!$G$92>='LFCR Calc'!A12,'LFCR Calc'!K11+'LFCR Calc'!J12,\" \")","v":0},{"$f":"+IF('LFCR Calc'!$G$92>='LFCR Calc'!A12,'LFCR Calc'!K12*'LFCR Calc'!$G$84*(1+'LFCR Calc'!$G$84)^'LFCR Calc'!B12/((1+'LFCR Calc'!$G$84)^'LFCR Calc'!B12-1),\" \")","v":0},null,{"$f":"+IF('LFCR Calc'!$G$92>='LFCR Calc'!A12,'Depreciation Table'!E8,\" \")","v":9.5000000000000001E-2},{"$f":"+IF('LFCR Calc'!$G$92>='LFCR Calc'!A12,(('LFCR Calc'!N12-'LFCR Calc'!E13)*('LFCR Calc'!$G$89)),\" \")","v":2.4500000000000001E-2},{"$f":"IF(+'LFCR Calc'!$G$92>='LFCR Calc'!A12,+'LFCR Calc'!O12+P11,\"\")","v":3.3250000000000002E-2}]
[3,{"$f":"IF('LFCR Calc'!$G$92>=A13,A13,\" \")","v":3},{"$f":"+IF('LFCR Calc'!$G$92>='LFCR Calc'!A13,('LFCR Calc'!C12-'LFCR Calc'!E12-'LFCR Calc'!O12),\" \")","v":0.91674999999999995},{"$f":"+IF('LFCR Calc'!$G$92>='LFCR Calc'!A13,'LFCR Calc'!$G$85*C13,\" \")","v":8.9043927499999995E-2},{"$f":"+IF('LFCR Calc'!$G$92>='LFCR Calc'!A13, ((100/'LFCR Calc'!$G$92)/100),\"\")","v":2.5000000000000001E-2},0,{"$f":"+IF('LFCR Calc'!$G$92>='LFCR Calc'!A13,'LFCR Calc'!$G$94,\" \")","v":3.63E-3},0,{"$f":"+IF('LFCR Calc'!$G$92>='LFCR Calc'!A13,(1/((1+'LFCR Calc'!$G$84)^'LFCR Calc'!B13)),\" \")","v":0.8113742080175198},{"$f":"+IF('LFCR Calc'!$G$92>='LFCR Calc'!A13,'LFCR Calc'!H13*'LFCR Calc'!I13,\" \")","v":0},{"$f":"+IF('LFCR Calc'!$G$92>='LFCR Calc'!A13,'LFCR Calc'!K12+'LFCR Calc'!J13,\" \")","v":0},{"$f":"+IF('LFCR Calc'!$G$92>='LFCR Calc'!A13,'LFCR Calc'!K13*'LFCR Calc'!$G$84*(1+'LFCR Calc'!$G$84)^'LFCR Calc'!B13/((1+'LFCR Calc'!$G$84)^'LFCR Calc'!B13-1),\" \")","v":0},null,{"$f":"+IF('LFCR Calc'!$G$92>='LFCR Calc'!A13,'Depreciation Table'!E9,\" \")","v":8.5500000000000007E-2},{"$f":"+IF('LFCR Calc'!$G$92>='LFCR Calc'!A13,(('LFCR Calc'!N13-'LFCR Calc'!E14)*('LFCR Calc'!$G$89)),\" \")","v":2.1174999999999999E-2},{"$f":"IF(+'LFCR Calc'!$G$92>='LFCR Calc'!A13,+'LFCR Calc'!O13+P12,\"\")","v":5.4425000000000001E-2}]
[4,{"$f":"IF('LFCR Calc'!$G$92>=A14,A14,\" \")","v":4},{"$f":"+IF('LFCR Calc'!$G$92>='LFCR Calc'!A14,('LFCR Calc'!C13-'LFCR Calc'!E13-'LFCR Calc'!O13),\" \")","v":0.87057499999999988},{"$f":"+IF('LFCR Calc'!$G$92>='LFCR Calc'!A14,'LFCR Calc'!$G$85*C14,\" \")","v":8.4558949749999987E-2},{"$f":"+IF('LFCR Calc'!$G$92>='LFCR Calc'!A14, ((100/'LFCR Calc'!$G$92)/100),\"\")","v":2.5000000000000001E-2},0,{"$f":"+IF('LFCR Calc'!$G$92>='LFCR Calc'!A14,'LFCR Calc'!$G$94,\" \")","v":3.63E-3},0,{"$f":"+IF('LFCR Calc'!$G$92>='LFCR Calc'!A14,(1/((1+'LFCR Calc'!$G$84)^'LFCR Calc'!B14)),\" \")","v":0.75676597524391853},{"$f":"+IF('LFCR Calc'!$G$92>='LFCR Calc'!A14,'LFCR Calc'!H14*'LFCR Calc'!I14,\" \")","v":0},{"$f":"+IF('LFCR Calc'!$G$92>='LFCR Calc'!A14,'LFCR Calc'!K13+'LFCR Calc'!J14,\" \")","v":0},{"$f":"+IF('LFCR Calc'!$G$92>='LFCR Calc'!A14,'LFCR Calc'!K14*'LFCR Calc'!$G$84*(1+'LFCR Calc'!$G$84)^'LFCR Calc'!B14/((1+'LFCR Calc'!$G$84)^'LFCR Calc'!B14-1),\" \")","v":0},null,{"$f":"+IF('LFCR Calc'!$G$92>='LFCR Calc'!A14,'Depreciation Table'!E10,\" \")","v":7.6999999999999999E-2},{"$f":"+IF('LFCR Calc'!$G$92>='LFCR Calc'!A14,(('LFCR Calc'!N14-'LFCR Calc'!E14)*('LFCR Calc'!$G$89)),\" \")","v":1.8199999999999997E-2},{"$f":"IF(+'LFCR Calc'!$G$92>='LFCR Calc'!A14,+'LFCR Calc'!O14+P13,\"\")","v":7.2624999999999995E-2}]
[5,{"$f":"IF('LFCR Calc'!$G$92>=A15,A15,\" \")","v":5},{"$f":"+IF('LFCR Calc'!$G$92>='LFCR Calc'!A15,('LFCR Calc'!C14-'LFCR Calc'!E14-'LFCR Calc'!O14),\" \")","v":0.82737499999999986},{"$f":"+IF('LFCR Calc'!$G$92>='LFCR Calc'!A15,'LFCR Calc'!$G$85*C15,\" \")","v":8.0362933749999976E-2},{"$f":"+IF('LFCR Calc'!$G$92>='LFCR Calc'!A15, ((100/'LFCR Calc'!$G$92)/100),\"\")","v":2.5000000000000001E-2},0,{"$f":"+IF('LFCR Calc'!$G$92>='LFCR Calc'!A15,'LFCR Calc'!$G$94,\" \")","v":3.63E-3},0,{"$f":"+IF('LFCR Calc'!$G$92>='LFCR Calc'!A15,(1/((1+'LFCR Calc'!$G$84)^'LFCR Calc'!B15)),\" \")","v":0.70583306152432346},{"$f":"+IF('LFCR Calc'!$G$92>='LFCR Calc'!A15,'LFCR Calc'!H15*'LFCR Calc'!I15,\" \")","v":0},{"$f":"+IF('LFCR Calc'!$G$92>='LFCR Calc'!A15,'LFCR Calc'!K14+'LFCR Calc'!J15,\" \")","v":0},{"$f":"+IF('LFCR Calc'!$G$92>='LFCR Calc'!A15,'LFCR Calc'!K15*'LFCR Calc'!$G$84*(1+'LFCR Calc'!$G$84)^'LFCR Calc'!B15/((1+'LFCR Calc'!$G$84)^'LFCR Calc'!B15-1),\" \")","v":0},null,{"$f":"+IF('LFCR Calc'!$G$92>='LFCR Calc'!A15,'Depreciation Table'!E11,\" \")","v":6.93E-2},{"$f":"+IF('LFCR Calc'!$G$92>='LFCR Calc'!A15,(('LFCR Calc'!N15-'LFCR Calc'!E15)*('LFCR Calc'!$G$89)),\" \")","v":1.5504999999999998E-2},{"$f":"IF(+'LFCR Calc'!$G$92>='LFCR Calc'!A15,+'LFCR Calc'!O15+P14,\"\")","v":8.8129999999999986E-2}]
[6,{"$f":"IF('LFCR Calc'!$G$92>=A16,A16,\" \")","v":6},{"$f":"+IF('LFCR Calc'!$G$92>='LFCR Calc'!A16,('LFCR Calc'!C15-'LFCR Calc'!E15-'LFCR Calc'!O15),\" \")","v":0.78686999999999985},{"$f":"+IF('LFCR Calc'!$G$92>='LFCR Calc'!A16,'LFCR Calc'!$G$85*C16,\" \")","v":7.6428683099999978E-2},{"$f":"+IF('LFCR Calc'!$G$92>='LFCR Calc'!A16, ((100/'LFCR Calc'!$G$92)/100),\"\")","v":2.5000000000000001E-2},0,{"$f":"+IF('LFCR Calc'!$G$92>='LFCR Calc'!A16,'LFCR Calc'!$G$94,\" \")","v":3.63E-3},0,{"$f":"+IF('LFCR Calc'!$G$92>='LFCR Calc'!A16,(1/((1+'LFCR Calc'!$G$84)^'LFCR Calc'!B16)),\" \")","v":0.65832810543605746},{"$f":"+IF('LFCR Calc'!$G$92>='LFCR Calc'!A16,'LFCR Calc'!H16*'LFCR Calc'!I16,\" \")","v":0},{"$f":"+IF('LFCR Calc'!$G$92>='LFCR Calc'!A16,'LFCR Calc'!K15+'LFCR Calc'!J16,\" \")","v":0},{"$f":"+IF('LFCR Calc'!$G$92>='LFCR Calc'!A16,'LFCR Calc'!K16*'LFCR Calc'!$G$84*(1+'LFCR Calc'!$G$84)^'LFCR Calc'!B16/((1+'LFCR Calc'!$G$84)^'LFCR Calc'!B16-1),\" \")","v":0},null,{"$f":"+IF('LFCR Calc'!$G$92>='LFCR Calc'!A16,'Depreciation Table'!E12,\" \")","v":6.2300000000000001E-2},{"$f":"+IF('LFCR Calc'!$G$92>='LFCR Calc'!A16,(('LFCR Calc'!N16-'LFCR Calc'!E16)*('LFCR Calc'!$G$89)),\" \")","v":1.3054999999999999E-2},{"$f":"IF(+'LFCR Calc'!$G$92>='LFCR Calc'!A16,+'LFCR Calc'!O16+P15,\"\")","v":0.10118499999999998}]
[7,{"$f":"IF('LFCR Calc'!$G$92>=A17,A17,\" \")","v":7},{"$f":"+IF('LFCR Calc'!$G$92>='LFCR Calc'!A17,('LFCR Calc'!C16-'LFCR Calc'!E16-'LFCR Calc'!O16),\" \")","v":0.74881499999999979},{"$f":"+IF('LFCR Calc'!$G$92>='LFCR Calc'!A17,'LFCR Calc'!$G$85*C17,\" \")","v":7.273240094999997E-2},{"$f":"+IF('LFCR Calc'!$G$92>='LFCR Calc'!A17, ((100/'LFCR Calc'!$G$92)/100),\"\")","v":2.5000000000000001E-2},0,{"$f":"+IF('LFCR Calc'!$G$92>='LFCR Calc'!A17,'LFCR Calc'!$G$94,\" \")","v":3.63E-3},{"$f":"+IF('LFCR Calc'!$G$92>='LFCR Calc'!A17,(+D17+E17+F17+G17),\" \")","v":0.10136240094999996},{"$f":"+IF('LFCR Calc'!$G$92>='LFCR Calc'!A17,(1/((1+'LFCR Calc'!$G$84)^'LFCR Calc'!B17)),\" \")","v":0.61402039381814044},{"$f":"+IF('LFCR Calc'!$G$92>='LFCR Calc'!A17,'LFCR Calc'!H17*'LFCR Calc'!I17,\" \")","v":6.2238581349671231E-2},{"$f":"+IF('LFCR Calc'!$G$92>='LFCR Calc'!A17,'LFCR Calc'!K16+'LFCR Calc'!J17,\" \")","v":6.2238581349671231E-2},{"$f":"+IF('LFCR Calc'!$G$92>='LFCR Calc'!A17,'LFCR Calc'!K17*'LFCR Calc'!$G$84*(1+'LFCR Calc'!$G$84)^'LFCR Calc'!B17/((1+'LFCR Calc'!$G$84)^'LFCR Calc'!B17-1),\" \")","v":1.1635682192173169E-2},null,{"$f":"+IF('LFCR Calc'!$G$92>='LFCR Calc'!A17,'Depreciation Table'!E13,\" \")","v":5.8999999999999997E-2},{"$f":"+IF('LFCR Calc'!$G$92>='LFCR Calc'!A17,(('LFCR Calc'!N17-'LFCR Calc'!E17)*('LFCR Calc'!$G$89)),\" \")","v":1.1899999999999997E-2},{"$f":"IF(+'LFCR Calc'!$G$92>='LFCR Calc'!A17,+'LFCR Calc'!O17+P16,\"\")","v":0.11308499999999998}]
[8,{"$f":"IF('LFCR Calc'!$G$92>=A18,A18,\" \")","v":8},{"$f":"+IF('LFCR Calc'!$G$92>='LFCR Calc'!A18,('LFCR Calc'!C17-'LFCR Calc'!E17-'LFCR Calc'!O17),\" \")","v":0.71191499999999974},{"$f":"+IF('LFCR Calc'!$G$92>='LFCR Calc'!A18,'LFCR Calc'!$G$85*C18,\" \")","v":6.9148303949999976E-2},{"$f":"+IF('LFCR Calc'!$G$92>='LFCR Calc'!A18, ((100/'LFCR Calc'!$G$92)/100),\"\")","v":2.5000000000000001E-2},0,{"$f":"+IF('LFCR Calc'!$G$92>='LFCR Calc'!A18,'LFCR Calc'!$G$94,\" \")","v":3.63E-3},{"$f":"+IF('LFCR Calc'!$G$92>='LFCR Calc'!A18,(+D18+E18+F18+G18),\" \")","v":9.7778303949999978E-2},{"$f":"+IF('LFCR Calc'!$G$92>='LFCR Calc'!A18,(1/((1+'LFCR Calc'!$G$84)^'LFCR Calc'!B18)),\" \")","v":0.57269474128687925},{"$f":"+IF('LFCR Calc'!$G$92>='LFCR Calc'!A18,'LFCR Calc'!H18*'LFCR Calc'!I18,\" \")","v":5.5997120484115079E-2},{"$f":"+IF('LFCR Calc'!$G$92>='LFCR Calc'!A18,'LFCR Calc'!K17+'LFCR Calc'!J18,\" \")","v":0.11823570183378632},{"$f":"+IF('LFCR Calc'!$G$92>='LFCR Calc'!A18,'LFCR Calc'!K18*'LFCR Calc'!$G$84*(1+'LFCR Calc'!$G$84)^'LFCR Calc'!B18/((1+'LFCR Calc'!$G$84)^'LFCR Calc'!B18-1),\" \")","v":1.9966728867369405E-2},null,{"$f":"+IF('LFCR Calc'!$G$92>='LFCR Calc'!A18,'Depreciation Table'!E14,\" \")","v":5.8999999999999997E-2},{"$f":"+IF('LFCR Calc'!$G$92>='LFCR Calc'!A18,(('LFCR Calc'!N18-'LFCR Calc'!E18)*('LFCR Calc'!$G$89)),\" \")","v":1.1899999999999997E-2},{"$f":"IF(+'LFCR Calc'!$G$92>='LFCR Calc'!A18,+'LFCR Calc'!O18+P17,\"\")","v":0.12498499999999997}]
[9,{"$f":"IF('LFCR Calc'!$G$92>=A19,A19,\" \")","v":9},{"$f":"+IF('LFCR Calc'!$G$92>='LFCR Calc'!A19,('LFCR Calc'!C18-'LFCR Calc'!E18-'LFCR Calc'!O18),\" \")","v":0.6750149999999997},{"$f":"+IF('LFCR Calc'!$G$92>='LFCR Calc'!A19,'LFCR Calc'!$G$85*C19,\" \")","v":6.5564206949999967E-2},{"$f":"+IF('LFCR Calc'!$G$92>='LFCR Calc'!A19, ((100/'LFCR Calc'!$G$92)/100),\"\")","v":2.5000000000000001E-2},0,{"$f":"+IF('LFCR Calc'!$G$92>='LFCR Calc'!A19,'LFCR Calc'!$G$94,\" \")","v":3.63E-3},{"$f":"+IF('LFCR Calc'!$G$92>='LFCR Calc'!A19,(+D19+E19+F19+G19),\" \")","v":9.419420694999997E-2},{"$f":"+IF('LFCR Calc'!$G$92>='LFCR Calc'!A19,(1/((1+'LFCR Calc'!$G$84)^'LFCR Calc'!B19)),\" \")","v":0.53415044516385535},{"$f":"+IF('LFCR Calc'!$G$92>='LFCR Calc'!A19,'LFCR Calc'!H19*'LFCR Calc'!I19,\" \")","v":5.03138775741988E-2},{"$f":"+IF('LFCR Calc'!$G$92>='LFCR Calc'!A19,'LFCR Calc'!K18+'LFCR Calc'!J19,\" \")","v":0.16854957940798512},{"$f":"+IF('LFCR Calc'!$G$92>='LFCR Calc'!A19,'LFCR Calc'!K19*'LFCR Calc'!$G$84*(1+'LFCR Calc'!$G$84)^'LFCR Calc'!B19/((1+'LFCR Calc'!$G$84)^'LFCR Calc'!B19-1),\" \")","v":2.610829510046047E-2},null,{"$f":"+IF('LFCR Calc'!$G$92>='LFCR Calc'!A19,'Depreciation Table'!E15,\" \")","v":5.91E-2},{"$f":"+IF('LFCR Calc'!$G$92>='LFCR Calc'!A19,(('LFCR Calc'!N19-'LFCR Calc'!E19)*('LFCR Calc'!$G$89)),\" \")","v":1.1934999999999999E-2},{"$f":"IF(+'LFCR Calc'!$G$92>='LFCR Calc'!A19,+'LFCR Calc'!O19+P18,\"\")","v":0.13691999999999996}]
[10,{"$f":"IF('LFCR Calc'!$G$92>=A20,A20,\" \")","v":10},{"$f":"+IF('LFCR Calc'!$G$92>='LFCR Calc'!A20,('LFCR Calc'!C19-'LFCR Calc'!E19-'LFCR Calc'!O19),\" \")","v":0.63807999999999965},{"$f":"+IF('LFCR Calc'!$G$92>='LFCR Calc'!A20,'LFCR Calc'!$G$85*C20,\" \")","v":6.1976710399999961E-2},{"$f":"+IF('LFCR Calc'!$G$92>='LFCR Calc'!A20, ((100/'LFCR Calc'!$G$92)/100),\"\")","v":2.5000000000000001E-2},0,{"$f":"+IF('LFCR Calc'!$G$92>='LFCR Calc'!A20,'LFCR Calc'!$G$94,\" \")","v":3.63E-3},{"$f":"+IF('LFCR Calc'!$G$92>='LFCR Calc'!A20,(+D20+E20+F20+G20),\" \")","v":9.0606710399999957E-2},{"$f":"+IF('LFCR Calc'!$G$92>='LFCR Calc'!A20,(1/((1+'LFCR Calc'!$G$84)^'LFCR Calc'!B20)),\" \")","v":0.49820031074079929},{"$f":"+IF('LFCR Calc'!$G$92>='LFCR Calc'!A20,'LFCR Calc'!H20*'LFCR Calc'!I20,\" \")","v":4.5140291276481587E-2},{"$f":"+IF('LFCR Calc'!$G$92>='LFCR Calc'!A20,'LFCR Calc'!K19+'LFCR Calc'!J20,\" \")","v":0.21368987068446671},{"$f":"+IF('LFCR Calc'!$G$92>='LFCR Calc'!A20,'LFCR Calc'!K20*'LFCR Calc'!$G$84*(1+'LFCR Calc'!$G$84)^'LFCR Calc'!B20/((1+'LFCR Calc'!$G$84)^'LFCR Calc'!B20-1),\" \")","v":3.0729116415666231E-2},null,{"$f":"+IF('LFCR Calc'!$G$92>='LFCR Calc'!A20,'Depreciation Table'!E16,\" \")","v":5.8999999999999997E-2},{"$f":"+IF('LFCR Calc'!$G$92>='LFCR Calc'!A20,(('LFCR Calc'!N20-'LFCR Calc'!E20)*('LFCR Calc'!$G$89)),\" \")","v":1.1899999999999997E-2},{"$f":"IF(+'LFCR Calc'!$G$92>='LFCR Calc'!A20,+'LFCR Calc'!O20+P19,\"\")","v":0.14881999999999995}]
[11,{"$f":"IF('LFCR Calc'!$G$92>=A21,A21,\" \")","v":11},{"$f":"+IF('LFCR Calc'!$G$92>='LFCR Calc'!A21,('LFCR Calc'!C20-'LFCR Calc'!E20-'LFCR Calc'!O20),\" \")","v":0.6011799999999996},{"$f":"+IF('LFCR Calc'!$G$92>='LFCR Calc'!A21,'LFCR Calc'!$G$85*C21,\" \")","v":5.839261339999996E-2},{"$f":"+IF('LFCR Calc'!$G$92>='LFCR Calc'!A21, ((100/'LFCR Calc'!$G$92)/100),\"\")","v":2.5000000000000001E-2},0,{"$f":"+IF('LFCR Calc'!$G$92>='LFCR Calc'!A21,'LFCR Calc'!$G$94,\" \")","v":3.63E-3},{"$f":"+IF('LFCR Calc'!$G$92>='LFCR Calc'!A21,(+D21+E21+F21+G21),\" \")","v":8.7022613399999948E-2},{"$f":"+IF('LFCR Calc'!$G$92>='LFCR Calc'!A21,(1/((1+'LFCR Calc'!$G$84)^'LFCR Calc'!B21)),\" \")","v":0.46466974214744},{"$f":"+IF('LFCR Calc'!$G$92>='LFCR Calc'!A21,'LFCR Calc'!H21*'LFCR Calc'!I21,\" \")","v":4.0436775329574334E-2},{"$f":"+IF('LFCR Calc'!$G$92>='LFCR Calc'!A21,'LFCR Calc'!K20+'LFCR Calc'!J21,\" \")","v":0.25412664601404106},{"$f":"+IF('LFCR Calc'!$G$92>='LFCR Calc'!A21,'LFCR Calc'!K21*'LFCR Calc'!$G$84*(1+'LFCR Calc'!$G$84)^'LFCR Calc'!B21/((1+'LFCR Calc'!$G$84)^'LFCR Calc'!B21-1),\" \")","v":3.4255076202742443E-2},null,{"$f":"+IF('LFCR Calc'!$G$92>='LFCR Calc'!A21,'Depreciation Table'!E17,\" \")","v":5.91E-2},{"$f":"+IF('LFCR Calc'!$G$92>='LFCR Calc'!A21,(('LFCR Calc'!N21-'LFCR Calc'!E21)*('LFCR Calc'!$G$89)),\" \")","v":1.1934999999999999E-2},{"$f":"IF(+'LFCR Calc'!$G$92>='LFCR Calc'!A21,+'LFCR Calc'!O21+P20,\"\")","v":0.16075499999999995}]
[12,{"$f":"IF('LFCR Calc'!$G$92>=A22,A22,\" \")","v":12},{"$f":"+IF('LFCR Calc'!$G$92>='LFCR Calc'!A22,('LFCR Calc'!C21-'LFCR Calc'!E21-'LFCR Calc'!O21),\" \")","v":0.56424499999999955},{"$f":"+IF('LFCR Calc'!$G$92>='LFCR Calc'!A22,'LFCR Calc'!$G$85*C22,\" \")","v":5.4805116849999953E-2},{"$f":"+IF('LFCR Calc'!$G$92>='LFCR Calc'!A22, ((100/'LFCR Calc'!$G$92)/100),\"\")","v":2.5000000000000001E-2},0,{"$f":"+IF('LFCR Calc'!$G$92>='LFCR Calc'!A22,'LFCR Calc'!$G$94,\" \")","v":3.63E-3},{"$f":"+IF('LFCR Calc'!$G$92>='LFCR Calc'!A22,(+D22+E22+F22+G22),\" \")","v":8.3435116849999949E-2},{"$f":"+IF('LFCR Calc'!$G$92>='LFCR Calc'!A22,(1/((1+'LFCR Calc'!$G$84)^'LFCR Calc'!B22)),\" \")","v":0.4333958944070288},{"$f":"+IF('LFCR Calc'!$G$92>='LFCR Calc'!A22,'LFCR Calc'!H22*'LFCR Calc'!I22,\" \")","v":3.6160437092160685E-2},{"$f":"+IF('LFCR Calc'!$G$92>='LFCR Calc'!A22,'LFCR Calc'!K21+'LFCR Calc'!J22,\" \")","v":0.29028708310620177},{"$f":"+IF('LFCR Calc'!$G$92>='LFCR Calc'!A22,'LFCR Calc'!K22*'LFCR Calc'!$G$84*(1+'LFCR Calc'!$G$84)^'LFCR Calc'!B22/((1+'LFCR Calc'!$G$84)^'LFCR Calc'!B22-1),\" \")","v":3.6969580188660339E-2},null,{"$f":"+IF('LFCR Calc'!$G$92>='LFCR Calc'!A22,'Depreciation Table'!E18,\" \")","v":5.8999999999999997E-2},{"$f":"+IF('LFCR Calc'!$G$92>='LFCR Calc'!A22,(('LFCR Calc'!N22-'LFCR Calc'!E22)*('LFCR Calc'!$G$89)),\" \")","v":1.1899999999999997E-2},{"$f":"IF(+'LFCR Calc'!$G$92>='LFCR Calc'!A22,+'LFCR Calc'!O22+P21,\"\")","v":0.17265499999999995}]
[13,{"$f":"IF('LFCR Calc'!$G$92>=A23,A23,\" \")","v":13},{"$f":"+IF('LFCR Calc'!$G$92>='LFCR Calc'!A23,('LFCR Calc'!C22-'LFCR Calc'!E22-'LFCR Calc'!O22),\" \")","v":0.52734499999999951},{"$f":"+IF('LFCR Calc'!$G$92>='LFCR Calc'!A23,'LFCR Calc'!$G$85*C23,\" \")","v":5.1221019849999952E-2},{"$f":"+IF('LFCR Calc'!$G$92>='LFCR Calc'!A23, ((100/'LFCR Calc'!$G$92)/100),\"\")","v":2.5000000000000001E-2},0,{"$f":"+IF('LFCR Calc'!$G$92>='LFCR Calc'!A23,'LFCR Calc'!$G$94,\" \")","v":3.63E-3},{"$f":"+IF('LFCR Calc'!$G$92>='LFCR Calc'!A23,(+D23+E23+F23+G23),\" \")","v":7.9851019849999955E-2},{"$f":"+IF('LFCR Calc'!$G$92>='LFCR Calc'!A23,(1/((1+'LFCR Calc'!$G$84)^'LFCR Calc'!B23)),\" \")","v":0.40422688256139827},{"$f":"+IF('LFCR Calc'!$G$92>='LFCR Calc'!A23,'LFCR Calc'!H23*'LFCR Calc'!I23,\" \")","v":3.227792882331381E-2},{"$f":"+IF('LFCR Calc'!$G$92>='LFCR Calc'!A23,'LFCR Calc'!K22+'LFCR Calc'!J23,\" \")","v":0.32256501192951559},{"$f":"+IF('LFCR Calc'!$G$92>='LFCR Calc'!A23,'LFCR Calc'!K23*'LFCR Calc'!$G$84*(1+'LFCR Calc'!$G$84)^'LFCR Calc'!B23/((1+'LFCR Calc'!$G$84)^'LFCR Calc'!B23-1),\" \")","v":3.9069052596574429E-2},null,{"$f":"+IF('LFCR Calc'!$G$92>='LFCR Calc'!A23,'Depreciation Table'!E19,\" \")","v":5.91E-2},{"$f":"+IF('LFCR Calc'!$G$92>='LFCR Calc'!A23,(('LFCR Calc'!N23-'LFCR Calc'!E23)*('LFCR Calc'!$G$89)),\" \")","v":1.1934999999999999E-2},{"$f":"IF(+'LFCR Calc'!$G$92>='LFCR Calc'!A23,+'LFCR Calc'!O23+P22,\"\")","v":0.18458999999999995}]
[14,{"$f":"IF('LFCR Calc'!$G$92>=A24,A24,\" \")","v":14},{"$f":"+IF('LFCR Calc'!$G$92>='LFCR Calc'!A24,('LFCR Calc'!C23-'LFCR Calc'!E23-'LFCR Calc'!O23),\" \")","v":0.49040999999999951},{"$f":"+IF('LFCR Calc'!$G$92>='LFCR Calc'!A24,'LFCR Calc'!$G$85*C24,\" \")","v":4.7633523299999952E-2},{"$f":"+IF('LFCR Calc'!$G$92>='LFCR Calc'!A24, ((100/'LFCR Calc'!$G$92)/100),\"\")","v":2.5000000000000001E-2},0,{"$f":"+IF('LFCR Calc'!$G$92>='LFCR Calc'!A24,'LFCR Calc'!$G$94,\" \")","v":3.63E-3},{"$f":"+IF('LFCR Calc'!$G$92>='LFCR Calc'!A24,(+D24+E24+F24+G24),\" \")","v":7.6263523299999941E-2},{"$f":"+IF('LFCR Calc'!$G$92>='LFCR Calc'!A24,(1/((1+'LFCR Calc'!$G$84)^'LFCR Calc'!B24)),\" \")","v":0.37702104402458425},{"$f":"+IF('LFCR Calc'!$G$92>='LFCR Calc'!A24,'LFCR Calc'!H24*'LFCR Calc'!I24,\" \")","v":2.8752953175559183E-2},{"$f":"+IF('LFCR Calc'!$G$92>='LFCR Calc'!A24,'LFCR Calc'!K23+'LFCR Calc'!J24,\" \")","v":0.35131796510507479},{"$f":"+IF('LFCR Calc'!$G$92>='LFCR Calc'!A24,'LFCR Calc'!K24*'LFCR Calc'!$G$84*(1+'LFCR Calc'!$G$84)^'LFCR Calc'!B24/((1+'LFCR Calc'!$G$84)^'LFCR Calc'!B24-1),\" \")","v":4.0693355881161762E-2},null,{"$f":"+IF('LFCR Calc'!$G$92>='LFCR Calc'!A24,'Depreciation Table'!E20,\" \")","v":5.8999999999999997E-2},{"$f":"+IF('LFCR Calc'!$G$92>='LFCR Calc'!A24,(('LFCR Calc'!N24-'LFCR Calc'!E24)*('LFCR Calc'!$G$89)),\" \")","v":1.1899999999999997E-2},{"$f":"IF(+'LFCR Calc'!$G$92>='LFCR Calc'!A24,+'LFCR Calc'!O24+P23,\"\")","v":0.19648999999999994}]
[15,{"$f":"IF('LFCR Calc'!$G$92>=A25,A25,\" \")","v":15},{"$f":"+IF('LFCR Calc'!$G$92>='LFCR Calc'!A25,('LFCR Calc'!C24-'LFCR Calc'!E24-'LFCR Calc'!O24),\" \")","v":0.45350999999999947},{"$f":"+IF('LFCR Calc'!$G$92>='LFCR Calc'!A25,'LFCR Calc'!$G$85*C25,\" \")","v":4.4049426299999944E-2},{"$f":"+IF('LFCR Calc'!$G$92>='LFCR Calc'!A25, ((100/'LFCR Calc'!$G$92)/100),\"\")","v":2.5000000000000001E-2},0,{"$f":"+IF('LFCR Calc'!$G$92>='LFCR Calc'!A25,'LFCR Calc'!$G$94,\" \")","v":3.63E-3},{"$f":"+IF('LFCR Calc'!$G$92>='LFCR Calc'!A25,(+D25+E25+F25+G25),\" \")","v":7.2679426299999933E-2},{"$f":"+IF('LFCR Calc'!$G$92>='LFCR Calc'!A25,(1/((1+'LFCR Calc'!$G$84)^'LFCR Calc'!B25)),\" \")","v":0.35164625058254761},{"$f":"+IF('LFCR Calc'!$G$92>='LFCR Calc'!A25,'LFCR Calc'!H25*'LFCR Calc'!I25,\" \")","v":2.5557447752885577E-2},{"$f":"+IF('LFCR Calc'!$G$92>='LFCR Calc'!A25,'LFCR Calc'!K24+'LFCR Calc'!J25,\" \")","v":0.37687541285796039},{"$f":"+IF('LFCR Calc'!$G$92>='LFCR Calc'!A25,'LFCR Calc'!K25*'LFCR Calc'!$G$84*(1+'LFCR Calc'!$G$84)^'LFCR Calc'!B25/((1+'LFCR Calc'!$G$84)^'LFCR Calc'!B25-1),\" \")","v":4.1945203241695601E-2},null,{"$f":"+IF('LFCR Calc'!$G$92>='LFCR Calc'!A25,'Depreciation Table'!E21,\" \")","v":5.91E-2},{"$f":"+IF('LFCR Calc'!$G$92>='LFCR Calc'!A25,(('LFCR Calc'!N25-'LFCR Calc'!E25)*('LFCR Calc'!$G$89)),\" \")","v":1.1934999999999999E-2},{"$f":"IF(+'LFCR Calc'!$G$92>='LFCR Calc'!A25,+'LFCR Calc'!O25+P24,\"\")","v":0.20842499999999994}]
[16,{"$f":"IF('LFCR Calc'!$G$92>=A26,A26,\" \")","v":16},{"$f":"+IF('LFCR Calc'!$G$92>='LFCR Calc'!A26,('LFCR Calc'!C25-'LFCR Calc'!E25-'LFCR Calc'!O25),\" \")","v":0.41657499999999947},{"$f":"+IF('LFCR Calc'!$G$92>='LFCR Calc'!A26,'LFCR Calc'!$G$85*C26,\" \")","v":4.0461929749999945E-2},{"$f":"+IF('LFCR Calc'!$G$92>='LFCR Calc'!A26, ((100/'LFCR Calc'!$G$92)/100),\"\")","v":2.5000000000000001E-2},0,{"$f":"+IF('LFCR Calc'!$G$92>='LFCR Calc'!A26,'LFCR Calc'!$G$94,\" \")","v":3.63E-3},{"$f":"+IF('LFCR Calc'!$G$92>='LFCR Calc'!A26,(+D26+E26+F26+G26),\" \")","v":6.9091929749999947E-2},{"$f":"+IF('LFCR Calc'!$G$92>='LFCR Calc'!A26,(1/((1+'LFCR Calc'!$G$84)^'LFCR Calc'!B26)),\" \")","v":0.32797926669764549},{"$f":"+IF('LFCR Calc'!$G$92>='LFCR Calc'!A26,'LFCR Calc'!H26*'LFCR Calc'!I26,\" \")","v":2.2660720454130218E-2},{"$f":"+IF('LFCR Calc'!$G$92>='LFCR Calc'!A26,'LFCR Calc'!K25+'LFCR Calc'!J26,\" \")","v":0.39953613331209059},{"$f":"+IF('LFCR Calc'!$G$92>='LFCR Calc'!A26,'LFCR Calc'!K26*'LFCR Calc'!$G$84*(1+'LFCR Calc'!$G$84)^'LFCR Calc'!B26/((1+'LFCR Calc'!$G$84)^'LFCR Calc'!B26-1),\" \")","v":4.290124686797285E-2},null,{"$f":"+IF('LFCR Calc'!$G$92>='LFCR Calc'!A26,'Depreciation Table'!E22,\" \")","v":2.9499999999999998E-2},{"$f":"+IF('LFCR Calc'!$G$92>='LFCR Calc'!A26,(('LFCR Calc'!N26-'LFCR Calc'!E26)*('LFCR Calc'!$G$89)),\" \")","v":1.5749999999999989E-3},{"$f":"IF(+'LFCR Calc'!$G$92>='LFCR Calc'!A26,+'LFCR Calc'!O26+P25,\"\")","v":0.20999999999999994}]
[17,{"$f":"IF('LFCR Calc'!$G$92>=A27,A27,\" \")","v":17},{"$f":"+IF('LFCR Calc'!$G$92>='LFCR Calc'!A27,('LFCR Calc'!C26-'LFCR Calc'!E26-'LFCR Calc'!O26),\" \")","v":0.38999999999999946},{"$f":"+IF('LFCR Calc'!$G$92>='LFCR Calc'!A27,'LFCR Calc'!$G$85*C27,\" \")","v":3.7880699999999948E-2},{"$f":"+IF('LFCR Calc'!$G$92>='LFCR Calc'!A27, ((100/'LFCR Calc'!$G$92)/100),\"\")","v":2.5000000000000001E-2},0,{"$f":"+IF('LFCR Calc'!$G$92>='LFCR Calc'!A27,'LFCR Calc'!$G$94,\" \")","v":3.63E-3},{"$f":"+IF('LFCR Calc'!$G$92>='LFCR Calc'!A27,(+D27+E27+F27+G27),\" \")","v":6.651069999999995E-2},{"$f":"+IF('LFCR Calc'!$G$92>='LFCR Calc'!A27,(1/((1+'LFCR Calc'!$G$84)^'LFCR Calc'!B27)),\" \")","v":0.30590515100138549},{"$f":"+IF('LFCR Calc'!$G$92>='LFCR Calc'!A27,'LFCR Calc'!H27*'LFCR Calc'!I27,\" \")","v":2.0345965726707833E-2},{"$f":"+IF('LFCR Calc'!$G$92>='LFCR Calc'!A27,'LFCR Calc'!K26+'LFCR Calc'!J27,\" \")","v":0.41988209903879842},{"$f":"+IF('LFCR Calc'!$G$92>='LFCR Calc'!A27,'LFCR Calc'!K27*'LFCR Calc'!$G$84*(1+'LFCR Calc'!$G$84)^'LFCR Calc'!B27/((1+'LFCR Calc'!$G$84)^'LFCR Calc'!B27-1),\" \")","v":4.3652092088498087E-2},null,{"$f":"+IF('LFCR Calc'!$G$92>='LFCR Calc'!A27,'Depreciation Table'!E23,\" \")","v":0},{"$f":"+IF('LFCR Calc'!$G$92>='LFCR Calc'!A27,(('LFCR Calc'!N27-'LFCR Calc'!E27)*('LFCR Calc'!$G$89)),\" \")","v":-8.7499999999999991E-3},{"$f":"IF(+'LFCR Calc'!$G$92>='LFCR Calc'!A27,+'LFCR Calc'!O27+P26,\"\")","v":0.20124999999999993}]
[18,{"$f":"IF('LFCR Calc'!$G$92>=A28,A28,\" \")","v":18},{"$f":"+IF('LFCR Calc'!$G$92>='LFCR Calc'!A28,('LFCR Calc'!C27-'LFCR Calc'!E27-'LFCR Calc'!O27),\" \")","v":0.37374999999999942},{"$f":"+IF('LFCR Calc'!$G$92>='LFCR Calc'!A28,'LFCR Calc'!$G$85*C28,\" \")","v":3.6302337499999941E-2},{"$f":"+IF('LFCR Calc'!$G$92>='LFCR Calc'!A28, ((100/'LFCR Calc'!$G$92)/100),\"\")","v":2.5000000000000001E-2},0,{"$f":"+IF('LFCR Calc'!$G$92>='LFCR Calc'!A28,'LFCR Calc'!$G$94,\" \")","v":3.63E-3},{"$f":"+IF('LFCR Calc'!$G$92>='LFCR Calc'!A28,(+D28+E28+F28+G28),\" \")","v":6.4932337499999937E-2},{"$f":"+IF('LFCR Calc'!$G$92>='LFCR Calc'!A28,(1/((1+'LFCR Calc'!$G$84)^'LFCR Calc'!B28)),\" \")","v":0.28531669806874488},{"$f":"+IF('LFCR Calc'!$G$92>='LFCR Calc'!A28,'LFCR Calc'!H28*'LFCR Calc'!I28,\" \")","v":1.8526280133385323E-2},{"$f":"+IF('LFCR Calc'!$G$92>='LFCR Calc'!A28,'LFCR Calc'!K27+'LFCR Calc'!J28,\" \")","v":0.43840837917218373},{"$f":"+IF('LFCR Calc'!$G$92>='LFCR Calc'!A28,'LFCR Calc'!K28*'LFCR Calc'!$G$84*(1+'LFCR Calc'!$G$84)^'LFCR Calc'!B28/((1+'LFCR Calc'!$G$84)^'LFCR Calc'!B28-1),\" \")","v":4.426512912163684E-2},null,{"$f":"+IF('LFCR Calc'!$G$92>='LFCR Calc'!A28,'Depreciation Table'!E24,\" \")","v":0},{"$f":"+IF('LFCR Calc'!$G$92>='LFCR Calc'!A28,(('LFCR Calc'!N28-'LFCR Calc'!E28)*('LFCR Calc'!$G$89)),\" \")","v":-8.7499999999999991E-3},{"$f":"IF(+'LFCR Calc'!$G$92>='LFCR Calc'!A28,+'LFCR Calc'!O28+P27,\"\")","v":0.19249999999999992}]
[19,{"$f":"IF('LFCR Calc'!$G$92>=A29,A29,\" \")","v":19},{"$f":"+IF('LFCR Calc'!$G$92>='LFCR Calc'!A29,('LFCR Calc'!C28-'LFCR Calc'!E28-'LFCR Calc'!O28),\" \")","v":0.35749999999999937},{"$f":"+IF('LFCR Calc'!$G$92>='LFCR Calc'!A29,'LFCR Calc'!$G$85*C29,\" \")","v":3.4723974999999935E-2},{"$f":"+IF('LFCR Calc'!$G$92>='LFCR Calc'!A29, ((100/'LFCR Calc'!$G$92)/100),\"\")","v":2.5000000000000001E-2},0,{"$f":"+IF('LFCR Calc'!$G$92>='LFCR Calc'!A29,'LFCR Calc'!$G$94,\" \")","v":3.63E-3},{"$f":"+IF('LFCR Calc'!$G$92>='LFCR Calc'!A29,(+D29+E29+F29+G29),\" \")","v":6.3353974999999937E-2},{"$f":"+IF('LFCR Calc'!$G$92>='LFCR Calc'!A29,(1/((1+'LFCR Calc'!$G$84)^'LFCR Calc'!B29)),\" \")","v":0.266113917762969},{"$f":"+IF('LFCR Calc'!$G$92>='LFCR Calc'!A29,'LFCR Calc'!H29*'LFCR Calc'!I29,\" \")","v":1.6859374493107177E-2},{"$f":"+IF('LFCR Calc'!$G$92>='LFCR Calc'!A29,'LFCR Calc'!K28+'LFCR Calc'!J29,\" \")","v":0.45526775366529093},{"$f":"+IF('LFCR Calc'!$G$92>='LFCR Calc'!A29,'LFCR Calc'!K29*'LFCR Calc'!$G$84*(1+'LFCR Calc'!$G$84)^'LFCR Calc'!B29/((1+'LFCR Calc'!$G$84)^'LFCR Calc'!B29-1),\" \")","v":4.4764605706034903E-2},null,{"$f":"+IF('LFCR Calc'!$G$92>='LFCR Calc'!A29,'Depreciation Table'!E25,\" \")","v":0},{"$f":"+IF('LFCR Calc'!$G$92>='LFCR Calc'!A29,(('LFCR Calc'!N29-'LFCR Calc'!E29)*('LFCR Calc'!$G$89)),\" \")","v":-8.7499999999999991E-3},{"$f":"IF(+'LFCR Calc'!$G$92>='LFCR Calc'!A29,+'LFCR Calc'!O29+P28,\"\")","v":0.18374999999999991}]
[20,{"$f":"IF('LFCR Calc'!$G$92>=A30,A30,\" \")","v":20},{"$f":"+IF('LFCR Calc'!$G$92>='LFCR Calc'!A30,('LFCR Calc'!C29-'LFCR Calc'!E29-'LFCR Calc'!O29),\" \")","v":0.34124999999999933},{"$f":"+IF('LFCR Calc'!$G$92>='LFCR Calc'!A30,'LFCR Calc'!$G$85*C30,\" \")","v":3.3145612499999935E-2},{"$f":"+IF('LFCR Calc'!$G$92>='LFCR Calc'!A30, ((100/'LFCR Calc'!$G$92)/100),\"\")","v":2.5000000000000001E-2},0,{"$f":"+IF('LFCR Calc'!$G$92>='LFCR Calc'!A30,'LFCR Calc'!$G$94,\" \")","v":3.63E-3},{"$f":"+IF('LFCR Calc'!$G$92>='LFCR Calc'!A30,(+D30+E30+F30+G30),\" \")","v":6.1775612499999938E-2},{"$f":"+IF('LFCR Calc'!$G$92>='LFCR Calc'!A30,(1/((1+'LFCR Calc'!$G$84)^'LFCR Calc'!B30)),\" \")","v":0.24820354962222896},{"$f":"+IF('LFCR Calc'!$G$92>='LFCR Calc'!A30,'LFCR Calc'!H30*'LFCR Calc'!I30,\" \")","v":1.5332926302587322E-2},{"$f":"+IF('LFCR Calc'!$G$92>='LFCR Calc'!A30,'LFCR Calc'!K29+'LFCR Calc'!J30,\" \")","v":0.47060067996787824},{"$f":"+IF('LFCR Calc'!$G$92>='LFCR Calc'!A30,'LFCR Calc'!K30*'LFCR Calc'!$G$84*(1+'LFCR Calc'!$G$84)^'LFCR Calc'!B30/((1+'LFCR Calc'!$G$84)^'LFCR Calc'!B30-1),\" \")","v":4.5169866191065722E-2},null,{"$f":"+IF('LFCR Calc'!$G$92>='LFCR Calc'!A30,'Depreciation Table'!E26,\" \")","v":0},{"$f":"+IF('LFCR Calc'!$G$92>='LFCR Calc'!A30,(('LFCR Calc'!N30-'LFCR Calc'!E30)*('LFCR Calc'!$G$89)),\" \")","v":-8.7499999999999991E-3},{"$f":"IF(+'LFCR Calc'!$G$92>='LFCR Calc'!A30,+'LFCR Calc'!O30+P29,\"\")","v":0.17499999999999991}]
[21,{"$f":"IF('LFCR Calc'!$G$92>=A31,A31,\" \")","v":21},{"$f":"+IF('LFCR Calc'!$G$92>='LFCR Calc'!A31,('LFCR Calc'!C30-'LFCR Calc'!E30-'LFCR Calc'!O30),\" \")","v":0.32499999999999929},{"$f":"+IF('LFCR Calc'!$G$92>='LFCR Calc'!A31,'LFCR Calc'!$G$85*C31,\" \")","v":3.1567249999999929E-2},{"$f":"+IF('LFCR Calc'!$G$92>='LFCR Calc'!A31, ((100/'LFCR Calc'!$G$92)/100),\"\")","v":2.5000000000000001E-2},0,{"$f":"+IF('LFCR Calc'!$G$92>='LFCR Calc'!A31,'LFCR Calc'!$G$94,\" \")","v":3.63E-3},{"$f":"+IF('LFCR Calc'!$G$92>='LFCR Calc'!A31,(+D31+E31+F31+G31),\" \")","v":6.0197249999999931E-2},{"$f":"+IF('LFCR Calc'!$G$92>='LFCR Calc'!A31,(1/((1+'LFCR Calc'!$G$84)^'LFCR Calc'!B31)),\" \")","v":0.23149860992970167},{"$f":"+IF('LFCR Calc'!$G$92>='LFCR Calc'!A31,'LFCR Calc'!H31*'LFCR Calc'!I31,\" \")","v":1.3935579696590717E-2},{"$f":"+IF('LFCR Calc'!$G$92>='LFCR Calc'!A31,'LFCR Calc'!K30+'LFCR Calc'!J31,\" \")","v":0.48453625966446895},{"$f":"+IF('LFCR Calc'!$G$92>='LFCR Calc'!A31,'LFCR Calc'!K31*'LFCR Calc'!$G$84*(1+'LFCR Calc'!$G$84)^'LFCR Calc'!B31/((1+'LFCR Calc'!$G$84)^'LFCR Calc'!B31-1),\" \")","v":4.5496516921315851E-2},null,{"$f":"+IF('LFCR Calc'!$G$92>='LFCR Calc'!A31,'Depreciation Table'!E27,\" \")","v":0},{"$f":"+IF('LFCR Calc'!$G$92>='LFCR Calc'!A31,(('LFCR Calc'!N31-'LFCR Calc'!E31)*('LFCR Calc'!$G$89)),\" \")","v":-8.7499999999999991E-3},{"$f":"IF(+'LFCR Calc'!$G$92>='LFCR Calc'!A31,+'LFCR Calc'!O31+P30,\"\")","v":0.1662499999999999}]
[22,{"$f":"IF('LFCR Calc'!$G$92>=A32,A32,\" \")","v":22},{"$f":"+IF('LFCR Calc'!$G$92>='LFCR Calc'!A32,('LFCR Calc'!C31-'LFCR Calc'!E31-'LFCR Calc'!O31),\" \")","v":0.30874999999999925},{"$f":"+IF('LFCR Calc'!$G$92>='LFCR Calc'!A32,'LFCR Calc'!$G$85*C32,\" \")","v":2.9988887499999926E-2},{"$f":"+IF('LFCR Calc'!$G$92>='LFCR Calc'!A32, ((100/'LFCR Calc'!$G$92)/100),\"\")","v":2.5000000000000001E-2},0,{"$f":"+IF('LFCR Calc'!$G$92>='LFCR Calc'!A32,'LFCR Calc'!$G$94,\" \")","v":3.63E-3},{"$f":"+IF('LFCR Calc'!$G$92>='LFCR Calc'!A32,(+D32+E32+F32+G32),\" \")","v":5.8618887499999932E-2},{"$f":"+IF('LFCR Calc'!$G$92>='LFCR Calc'!A32,(1/((1+'LFCR Calc'!$G$84)^'LFCR Calc'!B32)),\" \")","v":0.21591796926736836},{"$f":"+IF('LFCR Calc'!$G$92>='LFCR Calc'!A32,'LFCR Calc'!H32*'LFCR Calc'!I32,\" \")","v":1.2656871149712309E-2},{"$f":"+IF('LFCR Calc'!$G$92>='LFCR Calc'!A32,'LFCR Calc'!K31+'LFCR Calc'!J32,\" \")","v":0.49719313081418126},{"$f":"+IF('LFCR Calc'!$G$92>='LFCR Calc'!A32,'LFCR Calc'!K32*'LFCR Calc'!$G$84*(1+'LFCR Calc'!$G$84)^'LFCR Calc'!B32/((1+'LFCR Calc'!$G$84)^'LFCR Calc'!B32-1),\" \")","v":4.5757274001073704E-2},null,{"$f":"+IF('LFCR Calc'!$G$92>='LFCR Calc'!A32,'Depreciation Table'!E28,\" \")","v":0},{"$f":"+IF('LFCR Calc'!$G$92>='LFCR Calc'!A32,(('LFCR Calc'!N32-'LFCR Calc'!E32)*('LFCR Calc'!$G$89)),\" \")","v":-8.7499999999999991E-3},{"$f":"IF(+'LFCR Calc'!$G$92>='LFCR Calc'!A32,+'LFCR Calc'!O32+P31,\"\")","v":0.15749999999999989}]
[23,{"$f":"IF('LFCR Calc'!$G$92>=A33,A33,\" \")","v":23},{"$f":"+IF('LFCR Calc'!$G$92>='LFCR Calc'!A33,('LFCR Calc'!C32-'LFCR Calc'!E32-'LFCR Calc'!O32),\" \")","v":0.29249999999999921},{"$f":"+IF('LFCR Calc'!$G$92>='LFCR Calc'!A33,'LFCR Calc'!$G$85*C33,\" \")","v":2.8410524999999923E-2},{"$f":"+IF('LFCR Calc'!$G$92>='LFCR Calc'!A33, ((100/'LFCR Calc'!$G$92)/100),\"\")","v":2.5000000000000001E-2},0,{"$f":"+IF('LFCR Calc'!$G$92>='LFCR Calc'!A33,'LFCR Calc'!$G$94,\" \")","v":3.63E-3},{"$f":"+IF('LFCR Calc'!$G$92>='LFCR Calc'!A33,(+D33+E33+F33+G33),\" \")","v":5.7040524999999925E-2},{"$f":"+IF('LFCR Calc'!$G$92>='LFCR Calc'!A33,(1/((1+'LFCR Calc'!$G$84)^'LFCR Calc'!B33)),\" \")","v":0.20138595850187319},{"$f":"+IF('LFCR Calc'!$G$92>='LFCR Calc'!A33,'LFCR Calc'!H33*'LFCR Calc'!I33,\" \")","v":1.1487160800575045E-2},{"$f":"+IF('LFCR Calc'!$G$92>='LFCR Calc'!A33,'LFCR Calc'!K32+'LFCR Calc'!J33,\" \")","v":0.50868029161475625},{"$f":"+IF('LFCR Calc'!$G$92>='LFCR Calc'!A33,'LFCR Calc'!K33*'LFCR Calc'!$G$84*(1+'LFCR Calc'!$G$84)^'LFCR Calc'!B33/((1+'LFCR Calc'!$G$84)^'LFCR Calc'!B33-1),\" \")","v":4.5962590106809323E-2},null,{"$f":"+IF('LFCR Calc'!$G$92>='LFCR Calc'!A33,'Depreciation Table'!E29,\" \")","v":0},{"$f":"+IF('LFCR Calc'!$G$92>='LFCR Calc'!A33,(('LFCR Calc'!N33-'LFCR Calc'!E33)*('LFCR Calc'!$G$89)),\" \")","v":-8.7499999999999991E-3},{"$f":"IF(+'LFCR Calc'!$G$92>='LFCR Calc'!A33,+'LFCR Calc'!O33+P32,\"\")","v":0.14874999999999988}]
[24,{"$f":"IF('LFCR Calc'!$G$92>=A34,A34,\" \")","v":24},{"$f":"+IF('LFCR Calc'!$G$92>='LFCR Calc'!A34,('LFCR Calc'!C33-'LFCR Calc'!E33-'LFCR Calc'!O33),\" \")","v":0.27624999999999916},{"$f":"+IF('LFCR Calc'!$G$92>='LFCR Calc'!A34,'LFCR Calc'!$G$85*C34,\" \")","v":2.6832162499999916E-2},{"$f":"+IF('LFCR Calc'!$G$92>='LFCR Calc'!A34, ((100/'LFCR Calc'!$G$92)/100),\"\")","v":2.5000000000000001E-2},0,{"$f":"+IF('LFCR Calc'!$G$92>='LFCR Calc'!A34,'LFCR Calc'!$G$94,\" \")","v":3.63E-3},{"$f":"+IF('LFCR Calc'!$G$92>='LFCR Calc'!A34,(+D34+E34+F34+G34),\" \")","v":5.5462162499999919E-2},{"$f":"+IF('LFCR Calc'!$G$92>='LFCR Calc'!A34,(1/((1+'LFCR Calc'!$G$84)^'LFCR Calc'!B34)),\" \")","v":0.18783200128886843},{"$f":"+IF('LFCR Calc'!$G$92>='LFCR Calc'!A34,'LFCR Calc'!H34*'LFCR Calc'!I34,\" \")","v":1.0417568978183415E-2},{"$f":"+IF('LFCR Calc'!$G$92>='LFCR Calc'!A34,'LFCR Calc'!K33+'LFCR Calc'!J34,\" \")","v":0.51909786059293972},{"$f":"+IF('LFCR Calc'!$G$92>='LFCR Calc'!A34,'LFCR Calc'!K34*'LFCR Calc'!$G$84*(1+'LFCR Calc'!$G$84)^'LFCR Calc'!B34/((1+'LFCR Calc'!$G$84)^'LFCR Calc'!B34-1),\" \")","v":4.6121124791706394E-2},null,{"$f":"+IF('LFCR Calc'!$G$92>='LFCR Calc'!A34,'Depreciation Table'!E30,\" \")","v":0},{"$f":"+IF('LFCR Calc'!$G$92>='LFCR Calc'!A34,(('LFCR Calc'!N34-'LFCR Calc'!E34)*('LFCR Calc'!$G$89)),\" \")","v":-8.7499999999999991E-3},{"$f":"IF(+'LFCR Calc'!$G$92>='LFCR Calc'!A34,+'LFCR Calc'!O34+P33,\"\")","v":0.13999999999999987}]
[25,{"$f":"IF('LFCR Calc'!$G$92>=A35,A35,\" \")","v":25},{"$f":"+IF('LFCR Calc'!$G$92>='LFCR Calc'!A35,('LFCR Calc'!C34-'LFCR Calc'!E34-'LFCR Calc'!O34),\" \")","v":0.25999999999999912},{"$f":"+IF('LFCR Calc'!$G$92>='LFCR Calc'!A35,'LFCR Calc'!$G$85*C35,\" \")","v":2.5253799999999913E-2},{"$f":"+IF('LFCR Calc'!$G$92>='LFCR Calc'!A35, ((100/'LFCR Calc'!$G$92)/100),\"\")","v":2.5000000000000001E-2},0,{"$f":"+IF('LFCR Calc'!$G$92>='LFCR Calc'!A35,'LFCR Calc'!$G$94,\" \")","v":3.63E-3},{"$f":"+IF('LFCR Calc'!$G$92>='LFCR Calc'!A35,(+D35+E35+F35+G35),\" \")","v":5.3883799999999919E-2},{"$f":"+IF('LFCR Calc'!$G$92>='LFCR Calc'!A35,(1/((1+'LFCR Calc'!$G$84)^'LFCR Calc'!B35)),\" \")","v":0.17519027131106221},{"$f":"+IF('LFCR Calc'!$G$92>='LFCR Calc'!A35,'LFCR Calc'!H35*'LFCR Calc'!I35,\" \")","v":9.4399175412709993E-3},{"$f":"+IF('LFCR Calc'!$G$92>='LFCR Calc'!A35,'LFCR Calc'!K34+'LFCR Calc'!J35,\" \")","v":0.52853777813421077},{"$f":"+IF('LFCR Calc'!$G$92>='LFCR Calc'!A35,'LFCR Calc'!K35*'LFCR Calc'!$G$84*(1+'LFCR Calc'!$G$84)^'LFCR Calc'!B35/((1+'LFCR Calc'!$G$84)^'LFCR Calc'!B35-1),\" \")","v":4.6240102103049033E-2},null,{"$f":"+IF('LFCR Calc'!$G$92>='LFCR Calc'!A35,'Depreciation Table'!E31,\" \")","v":0},{"$f":"+IF('LFCR Calc'!$G$92>='LFCR Calc'!A35,(('LFCR Calc'!N35-'LFCR Calc'!E35)*('LFCR Calc'!$G$89)),\" \")","v":-8.7499999999999991E-3},{"$f":"IF(+'LFCR Calc'!$G$92>='LFCR Calc'!A35,+'LFCR Calc'!O35+P34,\"\")","v":0.13124999999999987}]
[26,{"$f":"IF('LFCR Calc'!$G$92>=A36,A36,\" \")","v":26},{"$f":"+IF('LFCR Calc'!$G$92>='LFCR Calc'!A36,('LFCR Calc'!C35-'LFCR Calc'!E35-'LFCR Calc'!O35),\" \")","v":0.24374999999999913},{"$f":"+IF('LFCR Calc'!$G$92>='LFCR Calc'!A36,'LFCR Calc'!$G$85*C36,\" \")","v":2.3675437499999914E-2},{"$f":"+IF('LFCR Calc'!$G$92>='LFCR Calc'!A36, ((100/'LFCR Calc'!$G$92)/100),\"\")","v":2.5000000000000001E-2},0,{"$f":"+IF('LFCR Calc'!$G$92>='LFCR Calc'!A36,'LFCR Calc'!$G$94,\" \")","v":3.63E-3},{"$f":"+IF('LFCR Calc'!$G$92>='LFCR Calc'!A36,(+D36+E36+F36+G36),\" \")","v":5.230543749999992E-2},{"$f":"+IF('LFCR Calc'!$G$92>='LFCR Calc'!A36,(1/((1+'LFCR Calc'!$G$84)^'LFCR Calc'!B36)),\" \")","v":0.16339937258530646},{"$f":"+IF('LFCR Calc'!$G$92>='LFCR Calc'!A36,'LFCR Calc'!H36*'LFCR Calc'!I36,\" \")","v":8.5466756702999476E-3},{"$f":"+IF('LFCR Calc'!$G$92>='LFCR Calc'!A36,'LFCR Calc'!K35+'LFCR Calc'!J36,\" \")","v":0.53708445380451075},{"$f":"+IF('LFCR Calc'!$G$92>='LFCR Calc'!A36,'LFCR Calc'!K36*'LFCR Calc'!$G$84*(1+'LFCR Calc'!$G$84)^'LFCR Calc'!B36/((1+'LFCR Calc'!$G$84)^'LFCR Calc'!B36-1),\" \")","v":4.6325585848888656E-2},null,{"$f":"+IF('LFCR Calc'!$G$92>='LFCR Calc'!A36,'Depreciation Table'!E32,\" \")","v":0},{"$f":"+IF('LFCR Calc'!$G$92>='LFCR Calc'!A36,(('LFCR Calc'!N36-'LFCR Calc'!E36)*('LFCR Calc'!$G$89)),\" \")","v":-8.7499999999999991E-3},{"$f":"IF(+'LFCR Calc'!$G$92>='LFCR Calc'!A36,+'LFCR Calc'!O36+P35,\"\")","v":0.12249999999999987}]
[27,{"$f":"IF('LFCR Calc'!$G$92>=A37,A37,\" \")","v":27},{"$f":"+IF('LFCR Calc'!$G$92>='LFCR Calc'!A37,('LFCR Calc'!C36-'LFCR Calc'!E36-'LFCR Calc'!O36),\" \")","v":0.22749999999999915},{"$f":"+IF('LFCR Calc'!$G$92>='LFCR Calc'!A37,'LFCR Calc'!$G$85*C37,\" \")","v":2.2097074999999917E-2},{"$f":"+IF('LFCR Calc'!$G$92>='LFCR Calc'!A37, ((100/'LFCR Calc'!$G$92)/100),\"\")","v":2.5000000000000001E-2},0,{"$f":"+IF('LFCR Calc'!$G$92>='LFCR Calc'!A37,'LFCR Calc'!$G$94,\" \")","v":3.63E-3},{"$f":"+IF('LFCR Calc'!$G$92>='LFCR Calc'!A37,(+D37+E37+F37+G37),\" \")","v":5.072707499999992E-2},{"$f":"+IF('LFCR Calc'!$G$92>='LFCR Calc'!A37,(1/((1+'LFCR Calc'!$G$84)^'LFCR Calc'!B37)),\" \")","v":0.15240204128610138},{"$f":"+IF('LFCR Calc'!$G$92>='LFCR Calc'!A37,'LFCR Calc'!H37*'LFCR Calc'!I37,\" \")","v":7.730909778473149E-3},{"$f":"+IF('LFCR Calc'!$G$92>='LFCR Calc'!A37,'LFCR Calc'!K36+'LFCR Calc'!J37,\" \")","v":0.54481536358298388},{"$f":"+IF('LFCR Calc'!$G$92>='LFCR Calc'!A37,'LFCR Calc'!K37*'LFCR Calc'!$G$84*(1+'LFCR Calc'!$G$84)^'LFCR Calc'!B37/((1+'LFCR Calc'!$G$84)^'LFCR Calc'!B37-1),\" \")","v":4.6382693860897176E-2},null,{"$f":"+IF('LFCR Calc'!$G$92>='LFCR Calc'!A37,'Depreciation Table'!E33,\" \")","v":0},{"$f":"+IF('LFCR Calc'!$G$92>='LFCR Calc'!A37,(('LFCR Calc'!N37-'LFCR Calc'!E37)*('LFCR Calc'!$G$89)),\" \")","v":-8.7499999999999991E-3},{"$f":"IF(+'LFCR Calc'!$G$92>='LFCR Calc'!A37,+'LFCR Calc'!O37+P36,\"\")","v":0.11374999999999988}]
[28,{"$f":"IF('LFCR Calc'!$G$92>=A38,A38,\" \")","v":28},{"$f":"+IF('LFCR Calc'!$G$92>='LFCR Calc'!A38,('LFCR Calc'!C37-'LFCR Calc'!E37-'LFCR Calc'!O37),\" \")","v":0.21124999999999916},{"$f":"+IF('LFCR Calc'!$G$92>='LFCR Calc'!A38,'LFCR Calc'!$G$85*C38,\" \")","v":2.0518712499999918E-2},{"$f":"+IF('LFCR Calc'!$G$92>='LFCR Calc'!A38, ((100/'LFCR Calc'!$G$92)/100),\"\")","v":2.5000000000000001E-2},0,{"$f":"+IF('LFCR Calc'!$G$92>='LFCR Calc'!A38,'LFCR Calc'!$G$94,\" \")","v":3.63E-3},{"$f":"+IF('LFCR Calc'!$G$92>='LFCR Calc'!A38,(+D38+E38+F38+G38),\" \")","v":4.9148712499999921E-2},{"$f":"+IF('LFCR Calc'!$G$92>='LFCR Calc'!A38,(1/((1+'LFCR Calc'!$G$84)^'LFCR Calc'!B38)),\" \")","v":0.14214486763738751},{"$f":"+IF('LFCR Calc'!$G$92>='LFCR Calc'!A38,'LFCR Calc'!H38*'LFCR Calc'!I38,\" \")","v":6.9862372328605019E-3},{"$f":"+IF('LFCR Calc'!$G$92>='LFCR Calc'!A38,'LFCR Calc'!K37+'LFCR Calc'!J38,\" \")","v":0.5518016008158444},{"$f":"+IF('LFCR Calc'!$G$92>='LFCR Calc'!A38,'LFCR Calc'!K38*'LFCR Calc'!$G$84*(1+'LFCR Calc'!$G$84)^'LFCR Calc'!B38/((1+'LFCR Calc'!$G$84)^'LFCR Calc'!B38-1),\" \")","v":4.6415766500351709E-2},null,{"$f":"+IF('LFCR Calc'!$G$92>='LFCR Calc'!A38,'Depreciation Table'!E34,\" \")","v":0},{"$f":"+IF('LFCR Calc'!$G$92>='LFCR Calc'!A38,(('LFCR Calc'!N38-'LFCR Calc'!E38)*('LFCR Calc'!$G$89)),\" \")","v":-8.7499999999999991E-3},{"$f":"IF(+'LFCR Calc'!$G$92>='LFCR Calc'!A38,+'LFCR Calc'!O38+P37,\"\")","v":0.10499999999999989}]
[29,{"$f":"IF('LFCR Calc'!$G$92>=A39,A39,\" \")","v":29},{"$f":"+IF('LFCR Calc'!$G$92>='LFCR Calc'!A39,('LFCR Calc'!C38-'LFCR Calc'!E38-'LFCR Calc'!O38),\" \")","v":0.19499999999999917},{"$f":"+IF('LFCR Calc'!$G$92>='LFCR Calc'!A39,'LFCR Calc'!$G$85*C39,\" \")","v":1.8940349999999918E-2},{"$f":"+IF('LFCR Calc'!$G$92>='LFCR Calc'!A39, ((100/'LFCR Calc'!$G$92)/100),\"\")","v":2.5000000000000001E-2},0,{"$f":"+IF('LFCR Calc'!$G$92>='LFCR Calc'!A39,'LFCR Calc'!$G$94,\" \")","v":3.63E-3},{"$f":"+IF('LFCR Calc'!$G$92>='LFCR Calc'!A39,(+D39+E39+F39+G39),\" \")","v":4.7570349999999921E-2},{"$f":"+IF('LFCR Calc'!$G$92>='LFCR Calc'!A39,(1/((1+'LFCR Calc'!$G$84)^'LFCR Calc'!B39)),\" \")","v":0.13257803652196265},{"$f":"+IF('LFCR Calc'!$G$92>='LFCR Calc'!A39,'LFCR Calc'!H39*'LFCR Calc'!I39,\" \")","v":6.3067835996625356E-3},{"$f":"+IF('LFCR Calc'!$G$92>='LFCR Calc'!A39,'LFCR Calc'!K38+'LFCR Calc'!J39,\" \")","v":0.55810838441550692},{"$f":"+IF('LFCR Calc'!$G$92>='LFCR Calc'!A39,'LFCR Calc'!K39*'LFCR Calc'!$G$84*(1+'LFCR Calc'!$G$84)^'LFCR Calc'!B39/((1+'LFCR Calc'!$G$84)^'LFCR Calc'!B39-1),\" \")","v":4.6428500447398088E-2},null,{"$f":"+IF('LFCR Calc'!$G$92>='LFCR Calc'!A39,'Depreciation Table'!E35,\" \")","v":0},{"$f":"+IF('LFCR Calc'!$G$92>='LFCR Calc'!A39,(('LFCR Calc'!N39-'LFCR Calc'!E39)*('LFCR Calc'!$G$89)),\" \")","v":-8.7499999999999991E-3},{"$f":"IF(+'LFCR Calc'!$G$92>='LFCR Calc'!A39,+'LFCR Calc'!O39+P38,\"\")","v":9.6249999999999891E-2}]
[30,{"$f":"IF('LFCR Calc'!$G$92>=A40,A40,\" \")","v":30},{"$f":"+IF('LFCR Calc'!$G$92>='LFCR Calc'!A40,('LFCR Calc'!C39-'LFCR Calc'!E39-'LFCR Calc'!O39),\" \")","v":0.17874999999999919},{"$f":"+IF('LFCR Calc'!$G$92>='LFCR Calc'!A40,'LFCR Calc'!$G$85*C40,\" \")","v":1.7361987499999919E-2},{"$f":"+IF('LFCR Calc'!$G$92>='LFCR Calc'!A40, ((100/'LFCR Calc'!$G$92)/100),\"\")","v":2.5000000000000001E-2},0,{"$f":"+IF('LFCR Calc'!$G$92>='LFCR Calc'!A40,'LFCR Calc'!$G$94,\" \")","v":3.63E-3},{"$f":"+IF('LFCR Calc'!$G$92>='LFCR Calc'!A40,(+D40+E40+F40+G40),\" \")","v":4.5991987499999921E-2},{"$f":"+IF('LFCR Calc'!$G$92>='LFCR Calc'!A40,(1/((1+'LFCR Calc'!$G$84)^'LFCR Calc'!B40)),\" \")","v":0.12365508554876387},{"$f":"+IF('LFCR Calc'!$G$92>='LFCR Calc'!A40,'LFCR Calc'!H40*'LFCR Calc'!I40,\" \")","v":5.6871431488701683E-3},{"$f":"+IF('LFCR Calc'!$G$92>='LFCR Calc'!A40,'LFCR Calc'!K39+'LFCR Calc'!J40,\" \")","v":0.56379552756437712},{"$f":"+IF('LFCR Calc'!$G$92>='LFCR Calc'!A40,'LFCR Calc'!K40*'LFCR Calc'!$G$84*(1+'LFCR Calc'!$G$84)^'LFCR Calc'!B40/((1+'LFCR Calc'!$G$84)^'LFCR Calc'!B40-1),\" \")","v":4.6424055869053904E-2},null,{"$f":"+IF('LFCR Calc'!$G$92>='LFCR Calc'!A40,'Depreciation Table'!E36,\" \")","v":0},{"$f":"+IF('LFCR Calc'!$G$92>='LFCR Calc'!A40,(('LFCR Calc'!N40-'LFCR Calc'!E40)*('LFCR Calc'!$G$89)),\" \")","v":-8.7499999999999991E-3},{"$f":"IF(+'LFCR Calc'!$G$92>='LFCR Calc'!A40,+'LFCR Calc'!O40+P39,\"\")","v":8.7499999999999897E-2}]
[31,{"$f":"IF('LFCR Calc'!$G$92>=A41,A41,\" \")","v":31},{"$f":"+IF('LFCR Calc'!$G$92>='LFCR Calc'!A41,('LFCR Calc'!C40-'LFCR Calc'!E40-'LFCR Calc'!O40),\" \")","v":0.1624999999999992},{"$f":"+IF('LFCR Calc'!$G$92>='LFCR Calc'!A41,'LFCR Calc'!$G$85*C41,\" \")","v":1.5783624999999923E-2},{"$f":"+IF('LFCR Calc'!$G$92>='LFCR Calc'!A41, ((100/'LFCR Calc'!$G$92)/100),\"\")","v":2.5000000000000001E-2},0,{"$f":"+IF('LFCR Calc'!$G$92>='LFCR Calc'!A41,'LFCR Calc'!$G$94,\" \")","v":3.63E-3},{"$f":"+IF('LFCR Calc'!$G$92>='LFCR Calc'!A41,(+D41+E41+F41+G41),\" \")","v":4.4413624999999922E-2},{"$f":"+IF('LFCR Calc'!$G$92>='LFCR Calc'!A41,(1/((1+'LFCR Calc'!$G$84)^'LFCR Calc'!B41)),\" \")","v":0.11533267940304046},{"$f":"+IF('LFCR Calc'!$G$92>='LFCR Calc'!A41,'LFCR Calc'!H41*'LFCR Calc'!I41,\" \")","v":5.1223423732518533E-3},{"$f":"+IF('LFCR Calc'!$G$92>='LFCR Calc'!A41,'LFCR Calc'!K40+'LFCR Calc'!J41,\" \")","v":0.56891786993762894},{"$f":"+IF('LFCR Calc'!$G$92>='LFCR Calc'!A41,'LFCR Calc'!K41*'LFCR Calc'!$G$84*(1+'LFCR Calc'!$G$84)^'LFCR Calc'!B41/((1+'LFCR Calc'!$G$84)^'LFCR Calc'!B41-1),\" \")","v":4.6405142971707503E-2},null,{"$f":"+IF('LFCR Calc'!$G$92>='LFCR Calc'!A41,'Depreciation Table'!E37,\" \")","v":0},{"$f":"+IF('LFCR Calc'!$G$92>='LFCR Calc'!A41,(('LFCR Calc'!N41-'LFCR Calc'!E41)*('LFCR Calc'!$G$89)),\" \")","v":-8.7499999999999991E-3},{"$f":"IF(+'LFCR Calc'!$G$92>='LFCR Calc'!A41,+'LFCR Calc'!O41+P40,\"\")","v":7.8749999999999903E-2}]
[32,{"$f":"IF('LFCR Calc'!$G$92>=A42,A42,\" \")","v":32},{"$f":"+IF('LFCR Calc'!$G$92>='LFCR Calc'!A42,('LFCR Calc'!C41-'LFCR Calc'!E41-'LFCR Calc'!O41),\" \")","v":0.14624999999999921},{"$f":"+IF('LFCR Calc'!$G$92>='LFCR Calc'!A42,'LFCR Calc'!$G$85*C42,\" \")","v":1.4205262499999923E-2},{"$f":"+IF('LFCR Calc'!$G$92>='LFCR Calc'!A42, ((100/'LFCR Calc'!$G$92)/100),\"\")","v":2.5000000000000001E-2},0,{"$f":"+IF('LFCR Calc'!$G$92>='LFCR Calc'!A42,'LFCR Calc'!$G$94,\" \")","v":3.63E-3},{"$f":"+IF('LFCR Calc'!$G$92>='LFCR Calc'!A42,(+D42+E42+F42+G42),\" \")","v":4.2835262499999922E-2},{"$f":"+IF('LFCR Calc'!$G$92>='LFCR Calc'!A42,(1/((1+'LFCR Calc'!$G$84)^'LFCR Calc'!B42)),\" \")","v":0.10757039938352528},{"$f":"+IF('LFCR Calc'!$G$92>='LFCR Calc'!A42,'LFCR Calc'!H42*'LFCR Calc'!I42,\" \")","v":4.6078062948231354E-3},{"$f":"+IF('LFCR Calc'!$G$92>='LFCR Calc'!A42,'LFCR Calc'!K41+'LFCR Calc'!J42,\" \")","v":0.5735256762324521},{"$f":"+IF('LFCR Calc'!$G$92>='LFCR Calc'!A42,'LFCR Calc'!K42*'LFCR Calc'!$G$84*(1+'LFCR Calc'!$G$84)^'LFCR Calc'!B42/((1+'LFCR Calc'!$G$84)^'LFCR Calc'!B42-1),\" \")","v":4.6374092441964367E-2},null,{"$f":"+IF('LFCR Calc'!$G$92>='LFCR Calc'!A42,'Depreciation Table'!E38,\" \")","v":0},{"$f":"+IF('LFCR Calc'!$G$92>='LFCR Calc'!A42,(('LFCR Calc'!N42-'LFCR Calc'!E42)*('LFCR Calc'!$G$89)),\" \")","v":-8.7499999999999991E-3},{"$f":"IF(+'LFCR Calc'!$G$92>='LFCR Calc'!A42,+'LFCR Calc'!O42+P41,\"\")","v":6.999999999999991E-2}]
[33,{"$f":"IF('LFCR Calc'!$G$92>=A43,A43,\" \")","v":33},{"$f":"+IF('LFCR Calc'!$G$92>='LFCR Calc'!A43,('LFCR Calc'!C42-'LFCR Calc'!E42-'LFCR Calc'!O42),\" \")","v":0.12999999999999923},{"$f":"+IF('LFCR Calc'!$G$92>='LFCR Calc'!A43,'LFCR Calc'!$G$85*C43,\" \")","v":1.2626899999999924E-2},{"$f":"+IF('LFCR Calc'!$G$92>='LFCR Calc'!A43, ((100/'LFCR Calc'!$G$92)/100),\"\")","v":2.5000000000000001E-2},0,{"$f":"+IF('LFCR Calc'!$G$92>='LFCR Calc'!A43,'LFCR Calc'!$G$94,\" \")","v":3.63E-3},{"$f":"+IF('LFCR Calc'!$G$92>='LFCR Calc'!A43,(+D43+E43+F43+G43),\" \")","v":4.1256899999999923E-2},{"$f":"+IF('LFCR Calc'!$G$92>='LFCR Calc'!A43,(1/((1+'LFCR Calc'!$G$84)^'LFCR Calc'!B43)),\" \")","v":0.10033054710446694},{"$f":"+IF('LFCR Calc'!$G$92>='LFCR Calc'!A43,'LFCR Calc'!H43*'LFCR Calc'!I43,\" \")","v":4.1393273488342748E-3},{"$f":"+IF('LFCR Calc'!$G$92>='LFCR Calc'!A43,'LFCR Calc'!K42+'LFCR Calc'!J43,\" \")","v":0.57766500358128636},{"$f":"+IF('LFCR Calc'!$G$92>='LFCR Calc'!A43,'LFCR Calc'!K43*'LFCR Calc'!$G$84*(1+'LFCR Calc'!$G$84)^'LFCR Calc'!B43/((1+'LFCR Calc'!$G$84)^'LFCR Calc'!B43-1),\" \")","v":4.6332913187468065E-2},null,{"$f":"+IF('LFCR Calc'!$G$92>='LFCR Calc'!A43,'Depreciation Table'!E39,\" \")","v":0},{"$f":"+IF('LFCR Calc'!$G$92>='LFCR Calc'!A43,(('LFCR Calc'!N43-'LFCR Calc'!E43)*('LFCR Calc'!$G$89)),\" \")","v":-8.7499999999999991E-3},{"$f":"IF(+'LFCR Calc'!$G$92>='LFCR Calc'!A43,+'LFCR Calc'!O43+P42,\"\")","v":6.1249999999999909E-2}]
[34,{"$f":"IF('LFCR Calc'!$G$92>=A44,A44,\" \")","v":34},{"$f":"+IF('LFCR Calc'!$G$92>='LFCR Calc'!A44,('LFCR Calc'!C43-'LFCR Calc'!E43-'LFCR Calc'!O43),\" \")","v":0.11374999999999923},{"$f":"+IF('LFCR Calc'!$G$92>='LFCR Calc'!A44,'LFCR Calc'!$G$85*C44,\" \")","v":1.1048537499999924E-2},{"$f":"+IF('LFCR Calc'!$G$92>='LFCR Calc'!A44, ((100/'LFCR Calc'!$G$92)/100),\"\")","v":2.5000000000000001E-2},0,{"$f":"+IF('LFCR Calc'!$G$92>='LFCR Calc'!A44,'LFCR Calc'!$G$94,\" \")","v":3.63E-3},{"$f":"+IF('LFCR Calc'!$G$92>='LFCR Calc'!A44,(+D44+E44+F44+G44),\" \")","v":3.9678537499999923E-2},{"$f":"+IF('LFCR Calc'!$G$92>='LFCR Calc'!A44,(1/((1+'LFCR Calc'!$G$84)^'LFCR Calc'!B44)),\" \")","v":9.3577961409180468E-2},{"$f":"+IF('LFCR Calc'!$G$92>='LFCR Calc'!A44,'LFCR Calc'!H44*'LFCR Calc'!I44,\" \")","v":3.7130366509477127E-3},{"$f":"+IF('LFCR Calc'!$G$92>='LFCR Calc'!A44,'LFCR Calc'!K43+'LFCR Calc'!J44,\" \")","v":0.58137804023223405},{"$f":"+IF('LFCR Calc'!$G$92>='LFCR Calc'!A44,'LFCR Calc'!K44*'LFCR Calc'!$G$84*(1+'LFCR Calc'!$G$84)^'LFCR Calc'!B44/((1+'LFCR Calc'!$G$84)^'LFCR Calc'!B44-1),\" \")","v":4.6283339986282312E-2},null,{"$f":"+IF('LFCR Calc'!$G$92>='LFCR Calc'!A44,'Depreciation Table'!E40,\" \")","v":0},{"$f":"+IF('LFCR Calc'!$G$92>='LFCR Calc'!A44,(('LFCR Calc'!N44-'LFCR Calc'!E44)*('LFCR Calc'!$G$89)),\" \")","v":-8.7499999999999991E-3},{"$f":"IF(+'LFCR Calc'!$G$92>='LFCR Calc'!A44,+'LFCR Calc'!O44+P43,\"\")","v":5.2499999999999908E-2}]
[35,{"$f":"IF('LFCR Calc'!$G$92>=A45,A45,\" \")","v":35},{"$f":"+IF('LFCR Calc'!$G$92>='LFCR Calc'!A45,('LFCR Calc'!C44-'LFCR Calc'!E44-'LFCR Calc'!O44),\" \")","v":9.7499999999999212E-2},{"$f":"+IF('LFCR Calc'!$G$92>='LFCR Calc'!A45,'LFCR Calc'!$G$85*C45,\" \")","v":9.4701749999999228E-3},{"$f":"+IF('LFCR Calc'!$G$92>='LFCR Calc'!A45, ((100/'LFCR Calc'!$G$92)/100),\"\")","v":2.5000000000000001E-2},0,{"$f":"+IF('LFCR Calc'!$G$92>='LFCR Calc'!A45,'LFCR Calc'!$G$94,\" \")","v":3.63E-3},{"$f":"+IF('LFCR Calc'!$G$92>='LFCR Calc'!A45,(+D45+E45+F45+G45),\" \")","v":3.8100174999999924E-2},{"$f":"+IF('LFCR Calc'!$G$92>='LFCR Calc'!A45,(1/((1+'LFCR Calc'!$G$84)^'LFCR Calc'!B45)),\" \")","v":8.7279847605936128E-2},{"$f":"+IF('LFCR Calc'!$G$92>='LFCR Calc'!A45,'LFCR Calc'!H45*'LFCR Calc'!I45,\" \")","v":3.3253774677594909E-3},{"$f":"+IF('LFCR Calc'!$G$92>='LFCR Calc'!A45,'LFCR Calc'!K44+'LFCR Calc'!J45,\" \")","v":0.58470341769999357},{"$f":"+IF('LFCR Calc'!$G$92>='LFCR Calc'!A45,'LFCR Calc'!K45*'LFCR Calc'!$G$84*(1+'LFCR Calc'!$G$84)^'LFCR Calc'!B45/((1+'LFCR Calc'!$G$84)^'LFCR Calc'!B45-1),\" \")","v":4.6226873056940232E-2},null,{"$f":"+IF('LFCR Calc'!$G$92>='LFCR Calc'!A45,'Depreciation Table'!E41,\" \")","v":0},{"$f":"+IF('LFCR Calc'!$G$92>='LFCR Calc'!A45,(('LFCR Calc'!N45-'LFCR Calc'!E45)*('LFCR Calc'!$G$89)),\" \")","v":-8.7499999999999991E-3},{"$f":"IF(+'LFCR Calc'!$G$92>='LFCR Calc'!A45,+'LFCR Calc'!O45+P44,\"\")","v":4.3749999999999907E-2}]
[36,{"$f":"IF('LFCR Calc'!$G$92>=A46,A46,\" \")","v":36},{"$f":"+IF('LFCR Calc'!$G$92>='LFCR Calc'!A46,('LFCR Calc'!C45-'LFCR Calc'!E45-'LFCR Calc'!O45),\" \")","v":8.1249999999999198E-2},{"$f":"+IF('LFCR Calc'!$G$92>='LFCR Calc'!A46,'LFCR Calc'!$G$85*C46,\" \")","v":7.8918124999999215E-3},{"$f":"+IF('LFCR Calc'!$G$92>='LFCR Calc'!A46, ((100/'LFCR Calc'!$G$92)/100),\"\")","v":2.5000000000000001E-2},0,{"$f":"+IF('LFCR Calc'!$G$92>='LFCR Calc'!A46,'LFCR Calc'!$G$94,\" \")","v":3.63E-3},{"$f":"+IF('LFCR Calc'!$G$92>='LFCR Calc'!A46,(+D46+E46+F46+G46),\" \")","v":3.6521812499999924E-2},{"$f":"+IF('LFCR Calc'!$G$92>='LFCR Calc'!A46,(1/((1+'LFCR Calc'!$G$84)^'LFCR Calc'!B46)),\" \")","v":8.1405618196851326E-2},{"$f":"+IF('LFCR Calc'!$G$92>='LFCR Calc'!A46,'LFCR Calc'!H46*'LFCR Calc'!I46,\" \")","v":2.9730807242319859E-3},{"$f":"+IF('LFCR Calc'!$G$92>='LFCR Calc'!A46,'LFCR Calc'!K45+'LFCR Calc'!J46,\" \")","v":0.58767649842422554},{"$f":"+IF('LFCR Calc'!$G$92>='LFCR Calc'!A46,'LFCR Calc'!K46*'LFCR Calc'!$G$84*(1+'LFCR Calc'!$G$84)^'LFCR Calc'!B46/((1+'LFCR Calc'!$G$84)^'LFCR Calc'!B46-1),\" \")","v":4.6164811113965337E-2},null,{"$f":"+IF('LFCR Calc'!$G$92>='LFCR Calc'!A46,'Depreciation Table'!E42,\" \")","v":0},{"$f":"+IF('LFCR Calc'!$G$92>='LFCR Calc'!A46,(('LFCR Calc'!N46-'LFCR Calc'!E46)*('LFCR Calc'!$G$89)),\" \")","v":-8.7499999999999991E-3},{"$f":"IF(+'LFCR Calc'!$G$92>='LFCR Calc'!A46,+'LFCR Calc'!O46+P45,\"\")","v":3.4999999999999906E-2}]
[37,{"$f":"IF('LFCR Calc'!$G$92>=A47,A47,\" \")","v":37},{"$f":"+IF('LFCR Calc'!$G$92>='LFCR Calc'!A47,('LFCR Calc'!C46-'LFCR Calc'!E46-'LFCR Calc'!O46),\" \")","v":6.4999999999999197E-2},{"$f":"+IF('LFCR Calc'!$G$92>='LFCR Calc'!A47,'LFCR Calc'!$G$85*C47,\" \")","v":6.3134499999999219E-3},{"$f":"+IF('LFCR Calc'!$G$92>='LFCR Calc'!A47, ((100/'LFCR Calc'!$G$92)/100),\"\")","v":2.5000000000000001E-2},0,{"$f":"+IF('LFCR Calc'!$G$92>='LFCR Calc'!A47,'LFCR Calc'!$G$94,\" \")","v":3.63E-3},{"$f":"+IF('LFCR Calc'!$G$92>='LFCR Calc'!A47,(+D47+E47+F47+G47),\" \")","v":3.4943449999999925E-2},{"$f":"+IF('LFCR Calc'!$G$92>='LFCR Calc'!A47,(1/((1+'LFCR Calc'!$G$84)^'LFCR Calc'!B47)),\" \")","v":7.5926744326267837E-2},{"$f":"+IF('LFCR Calc'!$G$92>='LFCR Calc'!A47,'LFCR Calc'!H47*'LFCR Calc'!I47,\" \")","v":2.6531423940277183E-3},{"$f":"+IF('LFCR Calc'!$G$92>='LFCR Calc'!A47,'LFCR Calc'!K46+'LFCR Calc'!J47,\" \")","v":0.59032964081825323},{"$f":"+IF('LFCR Calc'!$G$92>='LFCR Calc'!A47,'LFCR Calc'!K47*'LFCR Calc'!$G$84*(1+'LFCR Calc'!$G$84)^'LFCR Calc'!B47/((1+'LFCR Calc'!$G$84)^'LFCR Calc'!B47-1),\" \")","v":4.6098279135226419E-2},null,{"$f":"+IF('LFCR Calc'!$G$92>='LFCR Calc'!A47,'Depreciation Table'!E43,\" \")","v":0},{"$f":"+IF('LFCR Calc'!$G$92>='LFCR Calc'!A47,(('LFCR Calc'!N47-'LFCR Calc'!E47)*('LFCR Calc'!$G$89)),\" \")","v":-8.7499999999999991E-3},{"$f":"IF(+'LFCR Calc'!$G$92>='LFCR Calc'!A47,+'LFCR Calc'!O47+P46,\"\")","v":2.6249999999999905E-2}]
[38,{"$f":"IF('LFCR Calc'!$G$92>=A48,A48,\" \")","v":38},{"$f":"+IF('LFCR Calc'!$G$92>='LFCR Calc'!A48,('LFCR Calc'!C47-'LFCR Calc'!E47-'LFCR Calc'!O47),\" \")","v":4.8749999999999197E-2},{"$f":"+IF('LFCR Calc'!$G$92>='LFCR Calc'!A48,'LFCR Calc'!$G$85*C48,\" \")","v":4.7350874999999215E-3},{"$f":"+IF('LFCR Calc'!$G$92>='LFCR Calc'!A48, ((100/'LFCR Calc'!$G$92)/100),\"\")","v":2.5000000000000001E-2},0,{"$f":"+IF('LFCR Calc'!$G$92>='LFCR Calc'!A48,'LFCR Calc'!$G$94,\" \")","v":3.63E-3},{"$f":"+IF('LFCR Calc'!$G$92>='LFCR Calc'!A48,(+D48+E48+F48+G48),\" \")","v":3.3365087499999925E-2},{"$f":"+IF('LFCR Calc'!$G$92>='LFCR Calc'!A48,(1/((1+'LFCR Calc'!$G$84)^'LFCR Calc'!B48)),\" \")","v":7.0816617227156237E-2},{"$f":"+IF('LFCR Calc'!$G$92>='LFCR Calc'!A48,'LFCR Calc'!H48*'LFCR Calc'!I48,\" \")","v":2.3628026302380698E-3},{"$f":"+IF('LFCR Calc'!$G$92>='LFCR Calc'!A48,'LFCR Calc'!K47+'LFCR Calc'!J48,\" \")","v":0.59269244344849126},{"$f":"+IF('LFCR Calc'!$G$92>='LFCR Calc'!A48,'LFCR Calc'!K48*'LFCR Calc'!$G$84*(1+'LFCR Calc'!$G$84)^'LFCR Calc'!B48/((1+'LFCR Calc'!$G$84)^'LFCR Calc'!B48-1),\" \")","v":4.6028251809254253E-2},null,{"$f":"+IF('LFCR Calc'!$G$92>='LFCR Calc'!A48,'Depreciation Table'!E44,\" \")","v":0},{"$f":"+IF('LFCR Calc'!$G$92>='LFCR Calc'!A48,(('LFCR Calc'!N48-'LFCR Calc'!E48)*('LFCR Calc'!$G$89)),\" \")","v":-8.7499999999999991E-3},{"$f":"IF(+'LFCR Calc'!$G$92>='LFCR Calc'!A48,+'LFCR Calc'!O48+P47,\"\")","v":1.7499999999999905E-2}]
[39,{"$f":"IF('LFCR Calc'!$G$92>=A49,A49,\" \")","v":39},{"$f":"+IF('LFCR Calc'!$G$92>='LFCR Calc'!A49,('LFCR Calc'!C48-'LFCR Calc'!E48-'LFCR Calc'!O48),\" \")","v":3.2499999999999196E-2},{"$f":"+IF('LFCR Calc'!$G$92>='LFCR Calc'!A49,'LFCR Calc'!$G$85*C49,\" \")","v":3.1567249999999219E-3},{"$f":"+IF('LFCR Calc'!$G$92>='LFCR Calc'!A49, ((100/'LFCR Calc'!$G$92)/100),\"\")","v":2.5000000000000001E-2},0,{"$f":"+IF('LFCR Calc'!$G$92>='LFCR Calc'!A49,'LFCR Calc'!$G$94,\" \")","v":3.63E-3},{"$f":"+IF('LFCR Calc'!$G$92>='LFCR Calc'!A49,(+D49+E49+F49+G49),\" \")","v":3.1786724999999925E-2},{"$f":"+IF('LFCR Calc'!$G$92>='LFCR Calc'!A49,(1/((1+'LFCR Calc'!$G$84)^'LFCR Calc'!B49)),\" \")","v":6.6050418992646839E-2},{"$f":"+IF('LFCR Calc'!$G$92>='LFCR Calc'!A49,'LFCR Calc'!H49*'LFCR Calc'!I49,\" \")","v":2.0995265046540373E-3},{"$f":"+IF('LFCR Calc'!$G$92>='LFCR Calc'!A49,'LFCR Calc'!K48+'LFCR Calc'!J49,\" \")","v":0.59479196995314532},{"$f":"+IF('LFCR Calc'!$G$92>='LFCR Calc'!A49,'LFCR Calc'!K49*'LFCR Calc'!$G$84*(1+'LFCR Calc'!$G$84)^'LFCR Calc'!B49/((1+'LFCR Calc'!$G$84)^'LFCR Calc'!B49-1),\" \")","v":4.5955573432053455E-2},null,{"$f":"+IF('LFCR Calc'!$G$92>='LFCR Calc'!A49,'Depreciation Table'!E45,\" \")","v":0},{"$f":"+IF('LFCR Calc'!$G$92>='LFCR Calc'!A49,(('LFCR Calc'!N49-'LFCR Calc'!E49)*('LFCR Calc'!$G$89)),\" \")","v":-8.7499999999999991E-3},{"$f":"IF(+'LFCR Calc'!$G$92>='LFCR Calc'!A49,+'LFCR Calc'!O49+P48,\"\")","v":8.7499999999999054E-3}]
[40,{"$f":"IF('LFCR Calc'!$G$92>=A50,A50,\" \")","v":40},{"$f":"+IF('LFCR Calc'!$G$92>='LFCR Calc'!A50,('LFCR Calc'!C49-'LFCR Calc'!E49-'LFCR Calc'!O49),\" \")","v":1.6249999999999196E-2},{"$f":"+IF('LFCR Calc'!$G$92>='LFCR Calc'!A50,'LFCR Calc'!$G$85*C50,\" \")","v":1.5783624999999217E-3},{"$f":"+IF('LFCR Calc'!$G$92>='LFCR Calc'!A50, ((100/'LFCR Calc'!$G$92)/100),\"\")","v":2.5000000000000001E-2},0,{"$f":"+IF('LFCR Calc'!$G$92>='LFCR Calc'!A50,'LFCR Calc'!$G$94,\" \")","v":3.63E-3},{"$f":"+IF('LFCR Calc'!$G$92>='LFCR Calc'!A50,(+D50+E50+F50+G50),\" \")","v":3.0208362499999926E-2},{"$f":"+IF('LFCR Calc'!$G$92>='LFCR Calc'!A50,(1/((1+'LFCR Calc'!$G$84)^'LFCR Calc'!B50)),\" \")","v":6.160500204507427E-2},{"$f":"+IF('LFCR Calc'!$G$92>='LFCR Calc'!A50,'LFCR Calc'!H50*'LFCR Calc'!I50,\" \")","v":1.8609862335908403E-3},{"$f":"+IF('LFCR Calc'!$G$92>='LFCR Calc'!A50,'LFCR Calc'!K49+'LFCR Calc'!J50,\" \")","v":0.59665295618673619},{"$f":"+IF('LFCR Calc'!$G$92>='LFCR Calc'!A50,'LFCR Calc'!K50*'LFCR Calc'!$G$84*(1+'LFCR Calc'!$G$84)^'LFCR Calc'!B50/((1+'LFCR Calc'!$G$84)^'LFCR Calc'!B50-1),\" \")","v":4.5880974869074199E-2},null,{"$f":"+IF('LFCR Calc'!$G$92>='LFCR Calc'!A50,'Depreciation Table'!E46,\" \")","v":0},{"$f":"+IF('LFCR Calc'!$G$92>='LFCR Calc'!A50,(('LFCR Calc'!N50-'LFCR Calc'!E50)*('LFCR Calc'!$G$89)),\" \")","v":-8.7499999999999991E-3},{"$f":"IF(+'LFCR Calc'!$G$92>='LFCR Calc'!A50,+'LFCR Calc'!O50+P49,\"\")","v":-9.3675067702747583E-17}]
[41,{"$f":"IF('LFCR Calc'!$G$92>=A51,A51,\" \")","v":" "},{"$f":"+IF('LFCR Calc'!$G$92>='LFCR Calc'!A51,('LFCR Calc'!C50-'LFCR Calc'!E50-'LFCR Calc'!O50),\" \")","v":" "},{"$f":"+IF('LFCR Calc'!$G$92>='LFCR Calc'!A51,'LFCR Calc'!$G$85*C51,\" \")","v":" "},{"$f":"+IF('LFCR Calc'!$G$92>='LFCR Calc'!A51, ((100/'LFCR Calc'!$G$92)/100),\"\")","v":""},0,{"$f":"+IF('LFCR Calc'!$G$92>='LFCR Calc'!A51,'LFCR Calc'!$G$94,\" \")","v":" "},{"$f":"+IF('LFCR Calc'!$G$92>='LFCR Calc'!A51,(+D51+E51+F51+G51),\" \")","v":" "},{"$f":"+IF('LFCR Calc'!$G$92>='LFCR Calc'!A51,(1/((1+'LFCR Calc'!$G$84)^'LFCR Calc'!B51)),\" \")","v":" "},{"$f":"+IF('LFCR Calc'!$G$92>='LFCR Calc'!A51,'LFCR Calc'!H51*'LFCR Calc'!I51,\" \")","v":" "},{"$f":"+IF('LFCR Calc'!$G$92>='LFCR Calc'!A51,'LFCR Calc'!K50+'LFCR Calc'!J51,\" \")","v":" "},{"$f":"+IF('LFCR Calc'!$G$92>='LFCR Calc'!A51,'LFCR Calc'!K51*'LFCR Calc'!$G$84*(1+'LFCR Calc'!$G$84)^'LFCR Calc'!B51/((1+'LFCR Calc'!$G$84)^'LFCR Calc'!B51-1),\" \")","v":" "},null,{"$f":"+IF('LFCR Calc'!$G$92>='LFCR Calc'!A51,'Depreciation Table'!E47,\" \")","v":" "},{"$f":"+IF('LFCR Calc'!$G$92>='LFCR Calc'!A51,(('LFCR Calc'!N51-'LFCR Calc'!E51)*('LFCR Calc'!$G$89)),\" \")","v":" "},{"$f":"IF(+'LFCR Calc'!$G$92>='LFCR Calc'!A51,+'LFCR Calc'!O51+P50,\"\")","v":""}]
[42,{"$f":"IF('LFCR Calc'!$G$92>=A52,A52,\" \")","v":" "},{"$f":"+IF('LFCR Calc'!$G$92>='LFCR Calc'!A52,('LFCR Calc'!C51-'LFCR Calc'!E51-'LFCR Calc'!O51),\" \")","v":" "},{"$f":"+IF('LFCR Calc'!$G$92>='LFCR Calc'!A52,'LFCR Calc'!$G$85*C52,\" \")","v":" "},{"$f":"+IF('LFCR Calc'!$G$92>='LFCR Calc'!A52, ((100/'LFCR Calc'!$G$92)/100),\"\")","v":""},0,{"$f":"+IF('LFCR Calc'!$G$92>='LFCR Calc'!A52,'LFCR Calc'!$G$94,\" \")","v":" "},{"$f":"+IF('LFCR Calc'!$G$92>='LFCR Calc'!A52,(+D52+E52+F52+G52),\" \")","v":" "},{"$f":"+IF('LFCR Calc'!$G$92>='LFCR Calc'!A52,(1/((1+'LFCR Calc'!$G$84)^'LFCR Calc'!B52)),\" \")","v":" "},{"$f":"+IF('LFCR Calc'!$G$92>='LFCR Calc'!A52,'LFCR Calc'!H52*'LFCR Calc'!I52,\" \")","v":" "},{"$f":"+IF('LFCR Calc'!$G$92>='LFCR Calc'!A52,'LFCR Calc'!K51+'LFCR Calc'!J52,\" \")","v":" "},{"$f":"+IF('LFCR Calc'!$G$92>='LFCR Calc'!A52,'LFCR Calc'!K52*'LFCR Calc'!$G$84*(1+'LFCR Calc'!$G$84)^'LFCR Calc'!B52/((1+'LFCR Calc'!$G$84)^'LFCR Calc'!B52-1),\" \")","v":" "},null,{"$f":"+IF('LFCR Calc'!$G$92>='LFCR Calc'!A52,'Depreciation Table'!E48,\" \")","v":" "},{"$f":"+IF('LFCR Calc'!$G$92>='LFCR Calc'!A52,(('LFCR Calc'!N52-'LFCR Calc'!E52)*('LFCR Calc'!$G$89)),\" \")","v":" "},{"$f":"IF(+'LFCR Calc'!$G$92>='LFCR Calc'!A52,+'LFCR Calc'!O52+P51,\"\")","v":""}]
[43,{"$f":"IF('LFCR Calc'!$G$92>=A53,A53,\" \")","v":" "},{"$f":"+IF('LFCR Calc'!$G$92>='LFCR Calc'!A53,('LFCR Calc'!C52-'LFCR Calc'!E52-'LFCR Calc'!O52),\" \")","v":" "},{"$f":"+IF('LFCR Calc'!$G$92>='LFCR Calc'!A53,'LFCR Calc'!$G$85*C53,\" \")","v":" "},{"$f":"+IF('LFCR Calc'!$G$92>='LFCR Calc'!A53, ((100/'LFCR Calc'!$G$92)/100),\"\")","v":""},0,{"$f":"+IF('LFCR Calc'!$G$92>='LFCR Calc'!A53,'LFCR Calc'!$G$94,\" \")","v":" "},{"$f":"+IF('LFCR Calc'!$G$92>='LFCR Calc'!A53,(+D53+E53+F53+G53),\" \")","v":" "},{"$f":"+IF('LFCR Calc'!$G$92>='LFCR Calc'!A53,(1/((1+'LFCR Calc'!$G$84)^'LFCR Calc'!B53)),\" \")","v":" "},{"$f":"+IF('LFCR Calc'!$G$92>='LFCR Calc'!A53,'LFCR Calc'!H53*'LFCR Calc'!I53,\" \")","v":" "},{"$f":"+IF('LFCR Calc'!$G$92>='LFCR Calc'!A53,'LFCR Calc'!K52+'LFCR Calc'!J53,\" \")","v":" "},{"$f":"+IF('LFCR Calc'!$G$92>='LFCR Calc'!A53,'LFCR Calc'!K53*'LFCR Calc'!$G$84*(1+'LFCR Calc'!$G$84)^'LFCR Calc'!B53/((1+'LFCR Calc'!$G$84)^'LFCR Calc'!B53-1),\" \")","v":" "},null,{"$f":"+IF('LFCR Calc'!$G$92>='LFCR Calc'!A53,'Depreciation Table'!E49,\" \")","v":" "},{"$f":"+IF('LFCR Calc'!$G$92>='LFCR Calc'!A53,(('LFCR Calc'!N53-'LFCR Calc'!E53)*('LFCR Calc'!$G$89)),\" \")","v":" "},{"$f":"IF(+'LFCR Calc'!$G$92>='LFCR Calc'!A53,+'LFCR Calc'!O53+P52,\"\")","v":""}]
[44,{"$f":"IF('LFCR Calc'!$G$92>=A54,A54,\" \")","v":" "},{"$f":"+IF('LFCR Calc'!$G$92>='LFCR Calc'!A54,('LFCR Calc'!C53-'LFCR Calc'!E53-'LFCR Calc'!O53),\" \")","v":" "},{"$f":"+IF('LFCR Calc'!$G$92>='LFCR Calc'!A54,'LFCR Calc'!$G$85*C54,\" \")","v":" "},{"$f":"+IF('LFCR Calc'!$G$92>='LFCR Calc'!A54, ((100/'LFCR Calc'!$G$92)/100),\"\")","v":""},0,{"$f":"+IF('LFCR Calc'!$G$92>='LFCR Calc'!A54,'LFCR Calc'!$G$94,\" \")","v":" "},{"$f":"+IF('LFCR Calc'!$G$92>='LFCR Calc'!A54,(+D54+E54+F54+G54),\" \")","v":" "},{"$f":"+IF('LFCR Calc'!$G$92>='LFCR Calc'!A54,(1/((1+'LFCR Calc'!$G$84)^'LFCR Calc'!B54)),\" \")","v":" "},{"$f":"+IF('LFCR Calc'!$G$92>='LFCR Calc'!A54,'LFCR Calc'!H54*'LFCR Calc'!I54,\" \")","v":" "},{"$f":"+IF('LFCR Calc'!$G$92>='LFCR Calc'!A54,'LFCR Calc'!K53+'LFCR Calc'!J54,\" \")","v":" "},{"$f":"+IF('LFCR Calc'!$G$92>='LFCR Calc'!A54,'LFCR Calc'!K54*'LFCR Calc'!$G$84*(1+'LFCR Calc'!$G$84)^'LFCR Calc'!B54/((1+'LFCR Calc'!$G$84)^'LFCR Calc'!B54-1),\" \")","v":" "},null,{"$f":"+IF('LFCR Calc'!$G$92>='LFCR Calc'!A54,'Depreciation Table'!E50,\" \")","v":" "},{"$f":"+IF('LFCR Calc'!$G$92>='LFCR Calc'!A54,(('LFCR Calc'!N54-'LFCR Calc'!E54)*('LFCR Calc'!$G$89)),\" \")","v":" "},{"$f":"IF(+'LFCR Calc'!$G$92>='LFCR Calc'!A54,+'LFCR Calc'!O54+P53,\"\")","v":""}]
[45,{"$f":"IF('LFCR Calc'!$G$92>=A55,A55,\" \")","v":" "},{"$f":"+IF('LFCR Calc'!$G$92>='LFCR Calc'!A55,('LFCR Calc'!C54-'LFCR Calc'!E54-'LFCR Calc'!O54),\" \")","v":" "},{"$f":"+IF('LFCR Calc'!$G$92>='LFCR Calc'!A55,'LFCR Calc'!$G$85*C55,\" \")","v":" "},{"$f":"+IF('LFCR Calc'!$G$92>='LFCR Calc'!A55, ((100/'LFCR Calc'!$G$92)/100),\"\")","v":""},0,{"$f":"+IF('LFCR Calc'!$G$92>='LFCR Calc'!A55,'LFCR Calc'!$G$94,\" \")","v":" "},{"$f":"+IF('LFCR Calc'!$G$92>='LFCR Calc'!A55,(+D55+E55+F55+G55),\" \")","v":" "},{"$f":"+IF('LFCR Calc'!$G$92>='LFCR Calc'!A55,(1/((1+'LFCR Calc'!$G$84)^'LFCR Calc'!B55)),\" \")","v":" "},{"$f":"+IF('LFCR Calc'!$G$92>='LFCR Calc'!A55,'LFCR Calc'!H55*'LFCR Calc'!I55,\" \")","v":" "},{"$f":"+IF('LFCR Calc'!$G$92>='LFCR Calc'!A55,'LFCR Calc'!K54+'LFCR Calc'!J55,\" \")","v":" "},{"$f":"+IF('LFCR Calc'!$G$92>='LFCR Calc'!A55,'LFCR Calc'!K55*'LFCR Calc'!$G$84*(1+'LFCR Calc'!$G$84)^'LFCR Calc'!B55/((1+'LFCR Calc'!$G$84)^'LFCR Calc'!B55-1),\" \")","v":" "},null,{"$f":"+IF('LFCR Calc'!$G$92>='LFCR Calc'!A55,'Depreciation Table'!E51,\" \")","v":" "},{"$f":"+IF('LFCR Calc'!$G$92>='LFCR Calc'!A55,(('LFCR Calc'!N55-'LFCR Calc'!E55)*('LFCR Calc'!$G$89)),\" \")","v":" "},{"$f":"IF(+'LFCR Calc'!$G$92>='LFCR Calc'!A55,+'LFCR Calc'!O55+P54,\"\")","v":""}]
[46,{"$f":"IF('LFCR Calc'!$G$92>=A56,A56,\" \")","v":" "},{"$f":"+IF('LFCR Calc'!$G$92>='LFCR Calc'!A56,('LFCR Calc'!C55-'LFCR Calc'!E55-'LFCR Calc'!O55),\" \")","v":" "},{"$f":"+IF('LFCR Calc'!$G$92>='LFCR Calc'!A56,'LFCR Calc'!$G$85*C56,\" \")","v":" "},{"$f":"+IF('LFCR Calc'!$G$92>='LFCR Calc'!A56, ((100/'LFCR Calc'!$G$92)/100),\"\")","v":""},0,{"$f":"+IF('LFCR Calc'!$G$92>='LFCR Calc'!A56,'LFCR Calc'!$G$94,\" \")","v":" "},{"$f":"+IF('LFCR Calc'!$G$92>='LFCR Calc'!A56,(+D56+E56+F56+G56),\" \")","v":" "},{"$f":"+IF('LFCR Calc'!$G$92>='LFCR Calc'!A56,(1/((1+'LFCR Calc'!$G$84)^'LFCR Calc'!B56)),\" \")","v":" "},{"$f":"+IF('LFCR Calc'!$G$92>='LFCR Calc'!A56,'LFCR Calc'!H56*'LFCR Calc'!I56,\" \")","v":" "},{"$f":"+IF('LFCR Calc'!$G$92>='LFCR Calc'!A56,'LFCR Calc'!K55+'LFCR Calc'!J56,\" \")","v":" "},{"$f":"+IF('LFCR Calc'!$G$92>='LFCR Calc'!A56,'LFCR Calc'!K56*'LFCR Calc'!$G$84*(1+'LFCR Calc'!$G$84)^'LFCR Calc'!B56/((1+'LFCR Calc'!$G$84)^'LFCR Calc'!B56-1),\" \")","v":" "},null,{"$f":"+IF('LFCR Calc'!$G$92>='LFCR Calc'!A56,'Depreciation Table'!E52,\" \")","v":" "},{"$f":"+IF('LFCR Calc'!$G$92>='LFCR Calc'!A56,(('LFCR Calc'!N56-'LFCR Calc'!E56)*('LFCR Calc'!$G$89)),\" \")","v":" "},{"$f":"IF(+'LFCR Calc'!$G$92>='LFCR Calc'!A56,+'LFCR Calc'!O56+P55,\"\")","v":""}]
[47,{"$f":"IF('LFCR Calc'!$G$92>=A57,A57,\" \")","v":" "},{"$f":"+IF('LFCR Calc'!$G$92>='LFCR Calc'!A57,('LFCR Calc'!C56-'LFCR Calc'!E56-'LFCR Calc'!O56),\" \")","v":" "},{"$f":"+IF('LFCR Calc'!$G$92>='LFCR Calc'!A57,'LFCR Calc'!$G$85*C57,\" \")","v":" "},{"$f":"+IF('LFCR Calc'!$G$92>='LFCR Calc'!A57, ((100/'LFCR Calc'!$G$92)/100),\"\")","v":""},0,{"$f":"+IF('LFCR Calc'!$G$92>='LFCR Calc'!A57,'LFCR Calc'!$G$94,\" \")","v":" "},{"$f":"+IF('LFCR Calc'!$G$92>='LFCR Calc'!A57,(+D57+E57+F57+G57),\" \")","v":" "},{"$f":"+IF('LFCR Calc'!$G$92>='LFCR Calc'!A57,(1/((1+'LFCR Calc'!$G$84)^'LFCR Calc'!B57)),\" \")","v":" "},{"$f":"+IF('LFCR Calc'!$G$92>='LFCR Calc'!A57,'LFCR Calc'!H57*'LFCR Calc'!I57,\" \")","v":" "},{"$f":"+IF('LFCR Calc'!$G$92>='LFCR Calc'!A57,'LFCR Calc'!K56+'LFCR Calc'!J57,\" \")","v":" "},{"$f":"+IF('LFCR Calc'!$G$92>='LFCR Calc'!A57,'LFCR Calc'!K57*'LFCR Calc'!$G$84*(1+'LFCR Calc'!$G$84)^'LFCR Calc'!B57/((1+'LFCR Calc'!$G$84)^'LFCR Calc'!B57-1),\" \")","v":" "},null,{"$f":"+IF('LFCR Calc'!$G$92>='LFCR Calc'!A57,'Depreciation Table'!E53,\" \")","v":" "},{"$f":"+IF('LFCR Calc'!$G$92>='LFCR Calc'!A57,(('LFCR Calc'!N57-'LFCR Calc'!E57)*('LFCR Calc'!$G$89)),\" \")","v":" "},{"$f":"IF(+'LFCR Calc'!$G$92>='LFCR Calc'!A57,+'LFCR Calc'!O57+P56,\"\")","v":""}]
[48,{"$f":"IF('LFCR Calc'!$G$92>=A58,A58,\" \")","v":" "},{"$f":"+IF('LFCR Calc'!$G$92>='LFCR Calc'!A58,('LFCR Calc'!C57-'LFCR Calc'!E57-'LFCR Calc'!O57),\" \")","v":" "},{"$f":"+IF('LFCR Calc'!$G$92>='LFCR Calc'!A58,'LFCR Calc'!$G$85*C58,\" \")","v":" "},{"$f":"+IF('LFCR Calc'!$G$92>='LFCR Calc'!A58, ((100/'LFCR Calc'!$G$92)/100),\"\")","v":""},0,{"$f":"+IF('LFCR Calc'!$G$92>='LFCR Calc'!A58,'LFCR Calc'!$G$94,\" \")","v":" "},{"$f":"+IF('LFCR Calc'!$G$92>='LFCR Calc'!A58,(+D58+E58+F58+G58),\" \")","v":" "},{"$f":"+IF('LFCR Calc'!$G$92>='LFCR Calc'!A58,(1/((1+'LFCR Calc'!$G$84)^'LFCR Calc'!B58)),\" \")","v":" "},{"$f":"+IF('LFCR Calc'!$G$92>='LFCR Calc'!A58,'LFCR Calc'!H58*'LFCR Calc'!I58,\" \")","v":" "},{"$f":"+IF('LFCR Calc'!$G$92>='LFCR Calc'!A58,'LFCR Calc'!K57+'LFCR Calc'!J58,\" \")","v":" "},{"$f":"+IF('LFCR Calc'!$G$92>='LFCR Calc'!A58,'LFCR Calc'!K58*'LFCR Calc'!$G$84*(1+'LFCR Calc'!$G$84)^'LFCR Calc'!B58/((1+'LFCR Calc'!$G$84)^'LFCR Calc'!B58-1),\" \")","v":" "},null,{"$f":"+IF('LFCR Calc'!$G$92>='LFCR Calc'!A58,'Depreciation Table'!E54,\" \")","v":" "},{"$f":"+IF('LFCR Calc'!$G$92>='LFCR Calc'!A58,(('LFCR Calc'!N58-'LFCR Calc'!E58)*('LFCR Calc'!$G$89)),\" \")","v":" "},{"$f":"IF(+'LFCR Calc'!$G$92>='LFCR Calc'!A58,+'LFCR Calc'!O58+P57,\"\")","v":""}]
[49,{"$f":"IF('LFCR Calc'!$G$92>=A59,A59,\" \")","v":" "},{"$f":"+IF('LFCR Calc'!$G$92>='LFCR Calc'!A59,('LFCR Calc'!C58-'LFCR Calc'!E58-'LFCR Calc'!O58),\" \")","v":" "},{"$f":"+IF('LFCR Calc'!$G$92>='LFCR Calc'!A59,'LFCR Calc'!$G$85*C59,\" \")","v":" "},{"$f":"+IF('LFCR Calc'!$G$92>='LFCR Calc'!A59, ((100/'LFCR Calc'!$G$92)/100),\"\")","v":""},0,{"$f":"+IF('LFCR Calc'!$G$92>='LFCR Calc'!A59,'LFCR Calc'!$G$94,\" \")","v":" "},{"$f":"+IF('LFCR Calc'!$G$92>='LFCR Calc'!A59,(+D59+E59+F59+G59),\" \")","v":" "},{"$f":"+IF('LFCR Calc'!$G$92>='LFCR Calc'!A59,(1/((1+'LFCR Calc'!$G$84)^'LFCR Calc'!B59)),\" \")","v":" "},{"$f":"+IF('LFCR Calc'!$G$92>='LFCR Calc'!A59,'LFCR Calc'!H59*'LFCR Calc'!I59,\" \")","v":" "},{"$f":"+IF('LFCR Calc'!$G$92>='LFCR Calc'!A59,'LFCR Calc'!K58+'LFCR Calc'!J59,\" \")","v":" "},{"$f":"+IF('LFCR Calc'!$G$92>='LFCR Calc'!A59,'LFCR Calc'!K59*'LFCR Calc'!$G$84*(1+'LFCR Calc'!$G$84)^'LFCR Calc'!B59/((1+'LFCR Calc'!$G$84)^'LFCR Calc'!B59-1),\" \")","v":" "},null,{"$f":"+IF('LFCR Calc'!$G$92>='LFCR Calc'!A59,'Depreciation Table'!E55,\" \")","v":" "},{"$f":"+IF('LFCR Calc'!$G$92>='LFCR Calc'!A59,(('LFCR Calc'!N59-'LFCR Calc'!E59)*('LFCR Calc'!$G$89)),\" \")","v":" "},{"$f":"IF(+'LFCR Calc'!$G$92>='LFCR Calc'!A59,+'LFCR Calc'!O59+P58,\"\")","v":""}]
[50,{"$f":"IF('LFCR Calc'!$G$92>=A60,A60,\" \")","v":" "},{"$f":"+IF('LFCR Calc'!$G$92>='LFCR Calc'!A60,('LFCR Calc'!C59-'LFCR Calc'!E59-'LFCR Calc'!O59),\" \")","v":" "},{"$f":"+IF('LFCR Calc'!$G$92>='LFCR Calc'!A60,'LFCR Calc'!$G$85*C60,\" \")","v":" "},{"$f":"+IF('LFCR Calc'!$G$92>='LFCR Calc'!A60, ((100/'LFCR Calc'!$G$92)/100),\"\")","v":""},0,{"$f":"+IF('LFCR Calc'!$G$92>='LFCR Calc'!A60,'LFCR Calc'!$G$94,\" \")","v":" "},{"$f":"+IF('LFCR Calc'!$G$92>='LFCR Calc'!A60,(+D60+E60+F60+G60),\" \")","v":" "},{"$f":"+IF('LFCR Calc'!$G$92>='LFCR Calc'!A60,(1/((1+'LFCR Calc'!$G$84)^'LFCR Calc'!B60)),\" \")","v":" "},{"$f":"+IF('LFCR Calc'!$G$92>='LFCR Calc'!A60,'LFCR Calc'!H60*'LFCR Calc'!I60,\" \")","v":" "},{"$f":"+IF('LFCR Calc'!$G$92>='LFCR Calc'!A60,'LFCR Calc'!K59+'LFCR Calc'!J60,\" \")","v":" "},{"$f":"+IF('LFCR Calc'!$G$92>='LFCR Calc'!A60,'LFCR Calc'!K60*'LFCR Calc'!$G$84*(1+'LFCR Calc'!$G$84)^'LFCR Calc'!B60/((1+'LFCR Calc'!$G$84)^'LFCR Calc'!B60-1),\" \")","v":" "},null,{"$f":"+IF('LFCR Calc'!$G$92>='LFCR Calc'!A60,'Depreciation Table'!E56,\" \")","v":" "},{"$f":"+IF('LFCR Calc'!$G$92>='LFCR Calc'!A60,(('LFCR Calc'!N60-'LFCR Calc'!E60)*('LFCR Calc'!$G$89)),\" \")","v":" "},{"$f":"IF(+'LFCR Calc'!$G$92>='LFCR Calc'!A60,+'LFCR Calc'!O60+P59,\"\")","v":""}]
[51,{"$f":"IF('LFCR Calc'!$G$92>=A61,A61,\" \")","v":" "},{"$f":"+IF('LFCR Calc'!$G$92>='LFCR Calc'!A61,('LFCR Calc'!C60-'LFCR Calc'!E60-'LFCR Calc'!O60),\" \")","v":" "},{"$f":"+IF('LFCR Calc'!$G$92>='LFCR Calc'!A61,'LFCR Calc'!$G$85*C61,\" \")","v":" "},{"$f":"+IF('LFCR Calc'!$G$92>='LFCR Calc'!A61, ((100/'LFCR Calc'!$G$92)/100),\"\")","v":""},0,{"$f":"+IF('LFCR Calc'!$G$92>='LFCR Calc'!A61,'LFCR Calc'!$G$94,\" \")","v":" "},{"$f":"+IF('LFCR Calc'!$G$92>='LFCR Calc'!A61,(+D61+E61+F61+G61),\" \")","v":" "},{"$f":"+IF('LFCR Calc'!$G$92>='LFCR Calc'!A61,(1/((1+'LFCR Calc'!$G$84)^'LFCR Calc'!B61)),\" \")","v":" "},{"$f":"+IF('LFCR Calc'!$G$92>='LFCR Calc'!A61,'LFCR Calc'!H61*'LFCR Calc'!I61,\" \")","v":" "},{"$f":"+IF('LFCR Calc'!$G$92>='LFCR Calc'!A61,'LFCR Calc'!K60+'LFCR Calc'!J61,\" \")","v":" "},{"$f":"+IF('LFCR Calc'!$G$92>='LFCR Calc'!A61,'LFCR Calc'!K61*'LFCR Calc'!$G$84*(1+'LFCR Calc'!$G$84)^'LFCR Calc'!B61/((1+'LFCR Calc'!$G$84)^'LFCR Calc'!B61-1),\" \")","v":" "},null,{"$f":"+IF('LFCR Calc'!$G$92>='LFCR Calc'!A61,'Depreciation Table'!E57,\" \")","v":" "},{"$f":"+IF('LFCR Calc'!$G$92>='LFCR Calc'!A61,(('LFCR Calc'!N61-'LFCR Calc'!E61)*('LFCR Calc'!$G$89)),\" \")","v":" "},{"$f":"IF(+'LFCR Calc'!$G$92>='LFCR Calc'!A61,+'LFCR Calc'!O61+P60,\"\")","v":""}]
[52,{"$f":"IF('LFCR Calc'!$G$92>=A62,A62,\" \")","v":" "},{"$f":"+IF('LFCR Calc'!$G$92>='LFCR Calc'!A62,('LFCR Calc'!C61-'LFCR Calc'!E61-'LFCR Calc'!O61),\" \")","v":" "},{"$f":"+IF('LFCR Calc'!$G$92>='LFCR Calc'!A62,'LFCR Calc'!$G$85*C62,\" \")","v":" "},{"$f":"+IF('LFCR Calc'!$G$92>='LFCR Calc'!A62, ((100/'LFCR Calc'!$G$92)/100),\"\")","v":""},0,{"$f":"+IF('LFCR Calc'!$G$92>='LFCR Calc'!A62,'LFCR Calc'!$G$94,\" \")","v":" "},{"$f":"+IF('LFCR Calc'!$G$92>='LFCR Calc'!A62,(+D62+E62+F62+G62),\" \")","v":" "},{"$f":"+IF('LFCR Calc'!$G$92>='LFCR Calc'!A62,(1/((1+'LFCR Calc'!$G$84)^'LFCR Calc'!B62)),\" \")","v":" "},{"$f":"+IF('LFCR Calc'!$G$92>='LFCR Calc'!A62,'LFCR Calc'!H62*'LFCR Calc'!I62,\" \")","v":" "},{"$f":"+IF('LFCR Calc'!$G$92>='LFCR Calc'!A62,'LFCR Calc'!K61+'LFCR Calc'!J62,\" \")","v":" "},{"$f":"+IF('LFCR Calc'!$G$92>='LFCR Calc'!A62,'LFCR Calc'!K62*'LFCR Calc'!$G$84*(1+'LFCR Calc'!$G$84)^'LFCR Calc'!B62/((1+'LFCR Calc'!$G$84)^'LFCR Calc'!B62-1),\" \")","v":" "},null,{"$f":"+IF('LFCR Calc'!$G$92>='LFCR Calc'!A62,'Depreciation Table'!E58,\" \")","v":" "},{"$f":"+IF('LFCR Calc'!$G$92>='LFCR Calc'!A62,(('LFCR Calc'!N62-'LFCR Calc'!E62)*('LFCR Calc'!$G$89)),\" \")","v":" "},{"$f":"IF(+'LFCR Calc'!$G$92>='LFCR Calc'!A62,+'LFCR Calc'!O62+P61,\"\")","v":""}]
[53,{"$f":"IF('LFCR Calc'!$G$92>=A63,A63,\" \")","v":" "},{"$f":"+IF('LFCR Calc'!$G$92>='LFCR Calc'!A63,('LFCR Calc'!C62-'LFCR Calc'!E62-'LFCR Calc'!O62),\" \")","v":" "},{"$f":"+IF('LFCR Calc'!$G$92>='LFCR Calc'!A63,'LFCR Calc'!$G$85*C63,\" \")","v":" "},{"$f":"+IF('LFCR Calc'!$G$92>='LFCR Calc'!A63, ((100/'LFCR Calc'!$G$92)/100),\"\")","v":""},0,{"$f":"+IF('LFCR Calc'!$G$92>='LFCR Calc'!A63,'LFCR Calc'!$G$94,\" \")","v":" "},{"$f":"+IF('LFCR Calc'!$G$92>='LFCR Calc'!A63,(+D63+E63+F63+G63),\" \")","v":" "},{"$f":"+IF('LFCR Calc'!$G$92>='LFCR Calc'!A63,(1/((1+'LFCR Calc'!$G$84)^'LFCR Calc'!B63)),\" \")","v":" "},{"$f":"+IF('LFCR Calc'!$G$92>='LFCR Calc'!A63,'LFCR Calc'!H63*'LFCR Calc'!I63,\" \")","v":" "},{"$f":"+IF('LFCR Calc'!$G$92>='LFCR Calc'!A63,'LFCR Calc'!K62+'LFCR Calc'!J63,\" \")","v":" "},{"$f":"+IF('LFCR Calc'!$G$92>='LFCR Calc'!A63,'LFCR Calc'!K63*'LFCR Calc'!$G$84*(1+'LFCR Calc'!$G$84)^'LFCR Calc'!B63/((1+'LFCR Calc'!$G$84)^'LFCR Calc'!B63-1),\" \")","v":" "},null,{"$f":"+IF('LFCR Calc'!$G$92>='LFCR Calc'!A63,'Depreciation Table'!E59,\" \")","v":" "},{"$f":"+IF('LFCR Calc'!$G$92>='LFCR Calc'!A63,(('LFCR Calc'!N63-'LFCR Calc'!E63)*('LFCR Calc'!$G$89)),\" \")","v":" "},{"$f":"IF(+'LFCR Calc'!$G$92>='LFCR Calc'!A63,+'LFCR Calc'!O63+P62,\"\")","v":""}]
[54,{"$f":"IF('LFCR Calc'!$G$92>=A64,A64,\" \")","v":" "},{"$f":"+IF('LFCR Calc'!$G$92>='LFCR Calc'!A64,('LFCR Calc'!C63-'LFCR Calc'!E63-'LFCR Calc'!O63),\" \")","v":" "},{"$f":"+IF('LFCR Calc'!$G$92>='LFCR Calc'!A64,'LFCR Calc'!$G$85*C64,\" \")","v":" "},{"$f":"+IF('LFCR Calc'!$G$92>='LFCR Calc'!A64, ((100/'LFCR Calc'!$G$92)/100),\"\")","v":""},0,{"$f":"+IF('LFCR Calc'!$G$92>='LFCR Calc'!A64,'LFCR Calc'!$G$94,\" \")","v":" "},{"$f":"+IF('LFCR Calc'!$G$92>='LFCR Calc'!A64,(+D64+E64+F64+G64),\" \")","v":" "},{"$f":"+IF('LFCR Calc'!$G$92>='LFCR Calc'!A64,(1/((1+'LFCR Calc'!$G$84)^'LFCR Calc'!B64)),\" \")","v":" "},{"$f":"+IF('LFCR Calc'!$G$92>='LFCR Calc'!A64,'LFCR Calc'!H64*'LFCR Calc'!I64,\" \")","v":" "},{"$f":"+IF('LFCR Calc'!$G$92>='LFCR Calc'!A64,'LFCR Calc'!K63+'LFCR Calc'!J64,\" \")","v":" "},{"$f":"+IF('LFCR Calc'!$G$92>='LFCR Calc'!A64,'LFCR Calc'!K64*'LFCR Calc'!$G$84*(1+'LFCR Calc'!$G$84)^'LFCR Calc'!B64/((1+'LFCR Calc'!$G$84)^'LFCR Calc'!B64-1),\" \")","v":" "},null,{"$f":"+IF('LFCR Calc'!$G$92>='LFCR Calc'!A64,'Depreciation Table'!E60,\" \")","v":" "},{"$f":"+IF('LFCR Calc'!$G$92>='LFCR Calc'!A64,(('LFCR Calc'!N64-'LFCR Calc'!E64)*('LFCR Calc'!$G$89)),\" \")","v":" "},{"$f":"IF(+'LFCR Calc'!$G$92>='LFCR Calc'!A64,+'LFCR Calc'!O64+P63,\"\")","v":""}]
[55,{"$f":"IF('LFCR Calc'!$G$92>=A65,A65,\" \")","v":" "},{"$f":"+IF('LFCR Calc'!$G$92>='LFCR Calc'!A65,('LFCR Calc'!C64-'LFCR Calc'!E64-'LFCR Calc'!O64),\" \")","v":" "},{"$f":"+IF('LFCR Calc'!$G$92>='LFCR Calc'!A65,'LFCR Calc'!$G$85*C65,\" \")","v":" "},{"$f":"+IF('LFCR Calc'!$G$92>='LFCR Calc'!A65, ((100/'LFCR Calc'!$G$92)/100),\"\")","v":""},0,{"$f":"+IF('LFCR Calc'!$G$92>='LFCR Calc'!A65,'LFCR Calc'!$G$94,\" \")","v":" "},{"$f":"+IF('LFCR Calc'!$G$92>='LFCR Calc'!A65,(+D65+E65+F65+G65),\" \")","v":" "},{"$f":"+IF('LFCR Calc'!$G$92>='LFCR Calc'!A65,(1/((1+'LFCR Calc'!$G$84)^'LFCR Calc'!B65)),\" \")","v":" "},{"$f":"+IF('LFCR Calc'!$G$92>='LFCR Calc'!A65,'LFCR Calc'!H65*'LFCR Calc'!I65,\" \")","v":" "},{"$f":"+IF('LFCR Calc'!$G$92>='LFCR Calc'!A65,'LFCR Calc'!K64+'LFCR Calc'!J65,\" \")","v":" "},{"$f":"+IF('LFCR Calc'!$G$92>='LFCR Calc'!A65,'LFCR Calc'!K65*'LFCR Calc'!$G$84*(1+'LFCR Calc'!$G$84)^'LFCR Calc'!B65/((1+'LFCR Calc'!$G$84)^'LFCR Calc'!B65-1),\" \")","v":" "},null,{"$f":"+IF('LFCR Calc'!$G$92>='LFCR Calc'!A65,'Depreciation Table'!E61,\" \")","v":" "},{"$f":"+IF('LFCR Calc'!$G$92>='LFCR Calc'!A65,(('LFCR Calc'!N65-'LFCR Calc'!E65)*('LFCR Calc'!$G$89)),\" \")","v":" "},{"$f":"IF(+'LFCR Calc'!$G$92>='LFCR Calc'!A65,+'LFCR Calc'!O65+P64,\"\")","v":""}]
[]
[]
[]
["(1)  Prior year's Net investment - Book Depreciation - Deferred Income Tax."]
["(2)  Return (adjusted for taxes) x Net Investment."]
["(3)  Depreciation rate based on the life of the investment."]
["(4)  Distribution O&M expense as percent of distribution plant."]
["(5)  Ad valorem tax rate on distribution plant."]
["(6)  Sum of return, depreciation, O&M and ad valorem taxes."]
["(7)  Present value factor reflecting overall rate of return."]
["(8)  Present value factor x total charge."]
["(9) Accumulated present value."]
["(10)  Levelized fixed charge rate = accumulated present value x ((+ROR*(1+ROR)˄book life)/((1+ROR)˄book life-1)"]
["(11)  Tax depreciation rates for a CT uses a 15 year tax life."]
["(12)  (Tax life - book life) x tax rate."]
[]
[]
["Assumptions"]
["ROR",null,null,null,null,null,{"$f":"+'Cap Structure'!G14","v":7.2160000000000002E-2}]
["ROR with taxes",null,null,null,null,null,{"$f":"+'Cap Structure'!I14","v":9.7129999999999994E-2}]
[]
["Federal Tax Rate",null,null,null,null,null,0.35]
["State Tax Rate"]
["Combined Federal/State Tax Rate",null,null,null,null,null,{"$f":"+ROUND((G88*0.65)+G87,6)","v":0.35}]
["1 - Tax Rate",null,null,null,null,null,{"$f":"+ROUND(1-G89,6)","v":0.65}]
[]
["Service Life of Asset (in years)",null,null,null,null,null,40]
["Tax Life (in years - 5, 7, 10, 15, 20 , or 39)",null,null,null,null,null,15]
["Property Tax Rate",null,null,null,null,null,3.63E-3]

{"sheet":"Cap Structure","index":1,"n_rows":14,"n_cols":9,"rows_kept":14,"cut":false,"hidden":false,"merged":[]}
["Montana-Dakota Utilities co."]
["Electric Utility - South Dakota"]
[{"$f":"+'LFCR Calc'!A3","v":"2018 Avoided Cost Rate Update"}]
["Authorized Capital Structure"]
[]
[]
[null,null,null,null,null,null,"Required",null,"Adjusted for"]
[null,null,"Ratio",null,"Cost",null,"Return",null,"Taxes"]
[]
["Long Term Debt",null,0.41134999999999999,null,5.9490000000000001E-2,null,{"$f":"ROUND(+E10*C10,5)","v":2.4469999999999999E-2},null,{"$f":"+G10","v":2.4469999999999999E-2}]
["Short Term Debt ",null,8.1079999999999999E-2,null,1.6310000000000002E-2,null,{"$f":"ROUND(+E11*C11,5)","v":1.32E-3},null,{"$f":"+G11","v":1.32E-3}]
["Preferred Stock",null,1.242E-2,null,4.5789999999999997E-2,null,{"$f":"ROUND(+E12*C12,5)","v":5.6999999999999998E-4},null,{"$f":"ROUND(+G12/'LFCR Calc'!$G$90,5)","v":8.8000000000000003E-4}]
["Common Equity",null,0.49514999999999998,null,9.2499999999999999E-2,null,{"$f":"ROUND(+E13*C13,5)","v":4.58E-2},null,{"$f":"ROUND(+G13/'LFCR Calc'!$G$90,5)","v":7.0459999999999995E-2}]
["    Total",null,{"$f":"SUM(C10:C13)","v":1},null,null,null,{"$f":"SUM(G10:G13)","v":7.2160000000000002E-2},null,{"$f":"SUM(I10:I13)","v":9.7129999999999994E-2}]

{"sheet":"Depreciation Table","index":2,"n_rows":46,"n_cols":11,"rows_kept":46,"cut":false,"hidden":false,"merged":[]}
["MACRS Depreciation table"]
["Depreciation Method: 200 or 150 Percent Declining Balance Switching to Straight Line"]
["Convention: Half-Year"]
[]
[null,"Tax Life (Years)"]
[null,5,7,10,15,20,39]
[1,0.2,0.1429,0.1,0.05,3.7499999999999999E-2,1.2840000000000001E-2]
[2,0.32,0.24490000000000001,0.18,9.5000000000000001E-2,7.2190000000000004E-2,2.564E-2]
[3,0.192,0.1749,0.14399999999999999,8.5500000000000007E-2,6.6769999999999996E-2,2.564E-2]
[4,0.1152,0.1249,0.1152,7.6999999999999999E-2,6.1769999999999999E-2,2.564E-2]
[5,0.1152,8.9300000000000004E-2,9.2200000000000004E-2,6.93E-2,5.713E-2,2.564E-2]
[6,5.7599999999999998E-2,8.9200000000000002E-2,7.3700000000000002E-2,6.2300000000000001E-2,5.2850000000000001E-2,2.564E-2]
[7,0,8.9300000000000004E-2,6.5500000000000003E-2,5.8999999999999997E-2,4.888E-2,2.564E-2,null,null,7.4293900037800009E-2,"TOTAL(I8) =COMPO-(TAXPCT*DEBT)"]
[8,0,4.4600000000000001E-2,6.5500000000000003E-2,5.8999999999999997E-2,4.5220000000000003E-2,2.564E-2]
[9,0,0,6.5600000000000006E-2,5.91E-2,4.462E-2,2.564E-2]
[10,0,0,6.5500000000000003E-2,5.8999999999999997E-2,4.4610000000000004E-2,2.564E-2]
[11,0,0,3.2800000000000003E-2,5.91E-2,4.462E-2,2.564E-2]
[12,0,0,0,5.8999999999999997E-2,4.4610000000000004E-2,2.564E-2]
[13,0,0,0,5.91E-2,4.462E-2,2.564E-2]
[14,0,0,0,5.8999999999999997E-2,4.4610000000000004E-2,2.564E-2]
[15,0,0,0,5.91E-2,4.462E-2,2.564E-2]
[16,0,0,0,2.9499999999999998E-2,4.4610000000000004E-2,2.564E-2]
[17,0,0,0,0,4.462E-2,2.564E-2]
[18,0,0,0,0,4.4610000000000004E-2,2.564E-2]
[19,0,0,0,0,4.462E-2,2.564E-2]
[20,0,0,0,0,4.4610000000000004E-2,2.564E-2]
[21,0,0,0,0,2.231E-2,2.564E-2]
[22,0,0,0,0,0,2.564E-2]
[23,0,0,0,0,0,2.564E-2]
[24,0,0,0,0,0,2.564E-2]
[25,0,0,0,0,0,2.564E-2]
[26,0,0,0,0,0,2.564E-2]
[27,0,0,0,0,0,2.564E-2]
[28,0,0,0,0,0,2.564E-2]
[29,0,0,0,0,0,2.564E-2]
[30,0,0,0,0,0,2.564E-2]
[31,0,0,0,0,0,2.564E-2]
[32,0,0,0,0,0,2.564E-2]
[33,0,0,0,0,0,2.564E-2]
[34,0,0,0,0,0,2.564E-2]
[35,0,0,0,0,0,2.564E-2]
[36,0,0,0,0,0,2.564E-2]
[37,0,0,0,0,0,2.564E-2]
[38,0,0,0,0,0,2.564E-2]
[39,0,0,0,0,0,2.564E-2]
[40,0,0,0,0,0,1.2840000000000001E-2]